BEGIN:VCALENDAR
VERSION:2.0
PRODID:-//Mission Township - Crow Wing County MN - ECPv6.15.20//NONSGML v1.0//EN
CALSCALE:GREGORIAN
METHOD:PUBLISH
X-WR-CALNAME:Mission Township - Crow Wing County MN
X-ORIGINAL-URL:https://missiontownship.org
X-WR-CALDESC:Events for Mission Township - Crow Wing County MN
REFRESH-INTERVAL;VALUE=DURATION:PT1H
X-Robots-Tag:noindex
X-PUBLISHED-TTL:PT1H
BEGIN:VTIMEZONE
TZID:America/Chicago
BEGIN:DAYLIGHT
TZOFFSETFROM:-0600
TZOFFSETTO:-0500
TZNAME:CDT
DTSTART:20230312T080000
END:DAYLIGHT
BEGIN:STANDARD
TZOFFSETFROM:-0500
TZOFFSETTO:-0600
TZNAME:CST
DTSTART:20231105T070000
END:STANDARD
BEGIN:DAYLIGHT
TZOFFSETFROM:-0600
TZOFFSETTO:-0500
TZNAME:CDT
DTSTART:20240310T080000
END:DAYLIGHT
BEGIN:STANDARD
TZOFFSETFROM:-0500
TZOFFSETTO:-0600
TZNAME:CST
DTSTART:20241103T070000
END:STANDARD
BEGIN:DAYLIGHT
TZOFFSETFROM:-0600
TZOFFSETTO:-0500
TZNAME:CDT
DTSTART:20250309T080000
END:DAYLIGHT
BEGIN:STANDARD
TZOFFSETFROM:-0500
TZOFFSETTO:-0600
TZNAME:CST
DTSTART:20251102T070000
END:STANDARD
END:VTIMEZONE
BEGIN:VEVENT
DTSTART;TZID=America/Chicago:20241202T170000
DTEND;TZID=America/Chicago:20241202T180000
DTSTAMP:20260421T051011
CREATED:20241115T171911Z
LAST-MODIFIED:20241115T172246Z
UID:4342-1733158800-1733162400@missiontownship.org
SUMMARY:Mission Clerk Interviews
DESCRIPTION:Mission Town Board will meet to interview applicants for the open position of Town Clerk
URL:https://missiontownship.org/event/mission-clerk-interviews/
END:VEVENT
BEGIN:VEVENT
DTSTART;TZID=America/Chicago:20241202T180000
DTEND;TZID=America/Chicago:20241202T190000
DTSTAMP:20260421T051011
CREATED:20240110T222046Z
LAST-MODIFIED:20240110T222046Z
UID:3779-1733162400-1733166000@missiontownship.org
SUMMARY:Reorganization Mtg.
DESCRIPTION:
URL:https://missiontownship.org/event/reorganization-mtg/
END:VEVENT
BEGIN:VEVENT
DTSTART;TZID=America/Chicago:20241205T173000
DTEND;TZID=America/Chicago:20241205T183000
DTSTAMP:20260421T051011
CREATED:20240110T222133Z
LAST-MODIFIED:20241127T183206Z
UID:3781-1733419800-1733423400@missiontownship.org
SUMMARY:Road Comm. Mtg. - CANCELLED
DESCRIPTION:
URL:https://missiontownship.org/event/road-comm-mtg-5/
END:VEVENT
BEGIN:VEVENT
DTSTART;TZID=America/Chicago:20241209T190000
DTEND;TZID=America/Chicago:20241209T203000
DTSTAMP:20260421T051011
CREATED:20240110T222223Z
LAST-MODIFIED:20240110T222223Z
UID:3783-1733770800-1733776200@missiontownship.org
SUMMARY:Regular Township Mtg.
DESCRIPTION:
URL:https://missiontownship.org/event/regular-township-mtg-16/
END:VEVENT
BEGIN:VEVENT
DTSTART;TZID=America/Chicago:20241210T180000
DTEND;TZID=America/Chicago:20241210T190000
DTSTAMP:20260421T051011
CREATED:20241029T190934Z
LAST-MODIFIED:20241029T190934Z
UID:4300-1733853600-1733857200@missiontownship.org
SUMMARY:Fire Contract Review - Center Twp.
DESCRIPTION:Mission Town Board will meet at Center Township to review the current Fire Contract
URL:https://missiontownship.org/event/fire-contract-review-center-twp/
END:VEVENT
BEGIN:VEVENT
DTSTART;TZID=America/Chicago:20241210T190000
DTEND;TZID=America/Chicago:20241210T210000
DTSTAMP:20260421T051011
CREATED:20240110T222305Z
LAST-MODIFIED:20240110T222305Z
UID:3785-1733857200-1733864400@missiontownship.org
SUMMARY:Fire Dept. Mtg.
DESCRIPTION:
URL:https://missiontownship.org/event/fire-dept-mtg-17/
END:VEVENT
END:VCALENDAR