BEGIN:VCALENDAR
VERSION:2.0
PRODID:-//Mission Township - Crow Wing County MN - ECPv6.15.20//NONSGML v1.0//EN
CALSCALE:GREGORIAN
METHOD:PUBLISH
X-ORIGINAL-URL:https://missiontownship.org
X-WR-CALDESC:Events for Mission Township - Crow Wing County MN
REFRESH-INTERVAL;VALUE=DURATION:PT1H
X-Robots-Tag:noindex
X-PUBLISHED-TTL:PT1H
BEGIN:VTIMEZONE
TZID:America/Chicago
BEGIN:DAYLIGHT
TZOFFSETFROM:-0600
TZOFFSETTO:-0500
TZNAME:CDT
DTSTART:20230312T080000
END:DAYLIGHT
BEGIN:STANDARD
TZOFFSETFROM:-0500
TZOFFSETTO:-0600
TZNAME:CST
DTSTART:20231105T070000
END:STANDARD
BEGIN:DAYLIGHT
TZOFFSETFROM:-0600
TZOFFSETTO:-0500
TZNAME:CDT
DTSTART:20240310T080000
END:DAYLIGHT
BEGIN:STANDARD
TZOFFSETFROM:-0500
TZOFFSETTO:-0600
TZNAME:CST
DTSTART:20241103T070000
END:STANDARD
BEGIN:DAYLIGHT
TZOFFSETFROM:-0600
TZOFFSETTO:-0500
TZNAME:CDT
DTSTART:20250309T080000
END:DAYLIGHT
BEGIN:STANDARD
TZOFFSETFROM:-0500
TZOFFSETTO:-0600
TZNAME:CST
DTSTART:20251102T070000
END:STANDARD
END:VTIMEZONE
BEGIN:VEVENT
DTSTART;TZID=America/Chicago:20240909T190000
DTEND;TZID=America/Chicago:20240909T203000
DTSTAMP:20260421T134105
CREATED:20240110T221032Z
LAST-MODIFIED:20240110T221032Z
UID:3763-1725908400-1725913800@missiontownship.org
SUMMARY:Regular Township Mtg.
DESCRIPTION:
URL:https://missiontownship.org/event/regular-township-mtg-13/
END:VEVENT
BEGIN:VEVENT
DTSTART;TZID=America/Chicago:20240910T190000
DTEND;TZID=America/Chicago:20240910T210000
DTSTAMP:20260421T134105
CREATED:20240110T221120Z
LAST-MODIFIED:20240110T221120Z
UID:3765-1725994800-1726002000@missiontownship.org
SUMMARY:Fire Dept. Mtg.
DESCRIPTION:
URL:https://missiontownship.org/event/fire-dept-mtg-15/
END:VEVENT
BEGIN:VEVENT
DTSTART;TZID=America/Chicago:20240914T083000
DTEND;TZID=America/Chicago:20240914T100000
DTSTAMP:20260421T134105
CREATED:20240110T221443Z
LAST-MODIFIED:20240110T221443Z
UID:3767-1726302600-1726308000@missiontownship.org
SUMMARY:Hall - HLPOA
DESCRIPTION:
URL:https://missiontownship.org/event/hall-hlpoa-22/
END:VEVENT
BEGIN:VEVENT
DTSTART;TZID=America/Chicago:20240917T083000
DTEND;TZID=America/Chicago:20240917T100000
DTSTAMP:20260421T134105
CREATED:20240915T185401Z
LAST-MODIFIED:20240915T185401Z
UID:4234-1726561800-1726567200@missiontownship.org
SUMMARY:Park Committee Mtg
DESCRIPTION:
URL:https://missiontownship.org/event/park-committee-mtg-5/
END:VEVENT
BEGIN:VEVENT
DTSTART;VALUE=DATE:20240920
DTEND;VALUE=DATE:20240924
DTSTAMP:20260421T134105
CREATED:20240110T221537Z
LAST-MODIFIED:20240110T221537Z
UID:3769-1726790400-1727135999@missiontownship.org
SUMMARY:Hall - Quilt Club
DESCRIPTION:
URL:https://missiontownship.org/event/hall-quilt-club-7/
END:VEVENT
BEGIN:VEVENT
DTSTART;TZID=America/Chicago:20240923T160000
DTEND;TZID=America/Chicago:20240923T170000
DTSTAMP:20260421T134105
CREATED:20240917T162123Z
LAST-MODIFIED:20240917T162123Z
UID:4239-1727107200-1727110800@missiontownship.org
SUMMARY:Town Maintenance Interviews
DESCRIPTION:Mission Town Board will meet for the purpose of interviewing for the Town Maintenance position
URL:https://missiontownship.org/event/town-maintenance-interviews/
END:VEVENT
BEGIN:VEVENT
DTSTART;TZID=America/Chicago:20240924T183000
DTEND;TZID=America/Chicago:20240924T193000
DTSTAMP:20260421T134105
CREATED:20240918T161650Z
LAST-MODIFIED:20240918T161650Z
UID:4241-1727202600-1727206200@missiontownship.org
SUMMARY:Fire Relief Special Meeting
DESCRIPTION:
URL:https://missiontownship.org/event/fire-relief-special-meeting/
END:VEVENT
BEGIN:VEVENT
DTSTART;TZID=America/Chicago:20240928T090000
DTEND;TZID=America/Chicago:20240928T220000
DTSTAMP:20260421T134105
CREATED:20240905T191841Z
LAST-MODIFIED:20240905T191841Z
UID:4205-1727514000-1727560800@missiontownship.org
SUMMARY:Park - Paradigm Auto
DESCRIPTION:
URL:https://missiontownship.org/event/park-paradigm-auto/
END:VEVENT
END:VCALENDAR