BEGIN:VCALENDAR
VERSION:2.0
PRODID:-//Mission Township - Crow Wing County MN - ECPv6.15.20//NONSGML v1.0//EN
CALSCALE:GREGORIAN
METHOD:PUBLISH
X-ORIGINAL-URL:https://missiontownship.org
X-WR-CALDESC:Events for Mission Township - Crow Wing County MN
REFRESH-INTERVAL;VALUE=DURATION:PT1H
X-Robots-Tag:noindex
X-PUBLISHED-TTL:PT1H
BEGIN:VTIMEZONE
TZID:America/Chicago
BEGIN:DAYLIGHT
TZOFFSETFROM:-0600
TZOFFSETTO:-0500
TZNAME:CDT
DTSTART:20230312T080000
END:DAYLIGHT
BEGIN:STANDARD
TZOFFSETFROM:-0500
TZOFFSETTO:-0600
TZNAME:CST
DTSTART:20231105T070000
END:STANDARD
BEGIN:DAYLIGHT
TZOFFSETFROM:-0600
TZOFFSETTO:-0500
TZNAME:CDT
DTSTART:20240310T080000
END:DAYLIGHT
BEGIN:STANDARD
TZOFFSETFROM:-0500
TZOFFSETTO:-0600
TZNAME:CST
DTSTART:20241103T070000
END:STANDARD
BEGIN:DAYLIGHT
TZOFFSETFROM:-0600
TZOFFSETTO:-0500
TZNAME:CDT
DTSTART:20250309T080000
END:DAYLIGHT
BEGIN:STANDARD
TZOFFSETFROM:-0500
TZOFFSETTO:-0600
TZNAME:CST
DTSTART:20251102T070000
END:STANDARD
END:VTIMEZONE
BEGIN:VEVENT
DTSTART;TZID=America/Chicago:20240706T120000
DTEND;TZID=America/Chicago:20240706T170000
DTSTAMP:20260421T171802
CREATED:20240325T171634Z
LAST-MODIFIED:20240325T171634Z
UID:3935-1720267200-1720285200@missiontownship.org
SUMMARY:Park - Stevens
DESCRIPTION:
URL:https://missiontownship.org/event/park-stevens/
END:VEVENT
BEGIN:VEVENT
DTSTART;TZID=America/Chicago:20240707T110000
DTEND;TZID=America/Chicago:20240707T160000
DTSTAMP:20260421T171802
CREATED:20240507T172047Z
LAST-MODIFIED:20240507T172047Z
UID:4014-1720350000-1720368000@missiontownship.org
SUMMARY:Park - Smith Family
DESCRIPTION:
URL:https://missiontownship.org/event/park-smith-family/
END:VEVENT
BEGIN:VEVENT
DTSTART;TZID=America/Chicago:20240708T100000
DTEND;TZID=America/Chicago:20240708T120000
DTSTAMP:20260421T171802
CREATED:20240702T203034Z
LAST-MODIFIED:20240702T203034Z
UID:4121-1720432800-1720440000@missiontownship.org
SUMMARY:Park - Committee Mtg
DESCRIPTION:Mission Park Committee will be holding a meeting at Mission Park Pavilion 10:00am on July 8\, 2024
URL:https://missiontownship.org/event/park-committee-mtg-4/
END:VEVENT
BEGIN:VEVENT
DTSTART;TZID=America/Chicago:20240708T190000
DTEND;TZID=America/Chicago:20240708T203000
DTSTAMP:20260421T171802
CREATED:20240110T215634Z
LAST-MODIFIED:20240110T215634Z
UID:3747-1720465200-1720470600@missiontownship.org
SUMMARY:Regular Township Mtg.
DESCRIPTION:
URL:https://missiontownship.org/event/regular-township-mtg-11/
END:VEVENT
BEGIN:VEVENT
DTSTART;TZID=America/Chicago:20240709T190000
DTEND;TZID=America/Chicago:20240709T210000
DTSTAMP:20260421T171802
CREATED:20240110T215943Z
LAST-MODIFIED:20240110T215943Z
UID:3749-1720551600-1720558800@missiontownship.org
SUMMARY:Fire Dept. Mtg.
DESCRIPTION:
URL:https://missiontownship.org/event/fire-dept-mtg-13/
END:VEVENT
BEGIN:VEVENT
DTSTART;TZID=America/Chicago:20240711T190000
DTEND;TZID=America/Chicago:20240711T210000
DTSTAMP:20260421T171802
CREATED:20240709T172915Z
LAST-MODIFIED:20240709T172915Z
UID:4144-1720724400-1720731600@missiontownship.org
SUMMARY:Fire Relief Special Mtg.
DESCRIPTION:Fire Relief will meet for the purpose of planning a Street Dance
URL:https://missiontownship.org/event/fire-relief-special-mtg/
END:VEVENT
BEGIN:VEVENT
DTSTART;TZID=America/Chicago:20240718T190000
DTEND;TZID=America/Chicago:20240718T203000
DTSTAMP:20260421T171802
CREATED:20240110T220337Z
LAST-MODIFIED:20240110T220337Z
UID:3751-1721329200-1721334600@missiontownship.org
SUMMARY:Hall - HLPOA
DESCRIPTION:
URL:https://missiontownship.org/event/hall-hlpoa-19/
END:VEVENT
BEGIN:VEVENT
DTSTART;TZID=America/Chicago:20240720T100000
DTEND;TZID=America/Chicago:20240720T150000
DTSTAMP:20260421T171802
CREATED:20240715T193706Z
LAST-MODIFIED:20240715T193706Z
UID:4146-1721469600-1721487600@missiontownship.org
SUMMARY:Park - Roberts
DESCRIPTION:Birthday Party – Roxie Roberts Family
URL:https://missiontownship.org/event/park-roberts/
END:VEVENT
END:VCALENDAR