BEGIN:VCALENDAR
VERSION:2.0
PRODID:-//Mission Township - Crow Wing County MN - ECPv6.15.20//NONSGML v1.0//EN
CALSCALE:GREGORIAN
METHOD:PUBLISH
X-WR-CALNAME:Mission Township - Crow Wing County MN
X-ORIGINAL-URL:https://missiontownship.org
X-WR-CALDESC:Events for Mission Township - Crow Wing County MN
REFRESH-INTERVAL;VALUE=DURATION:PT1H
X-Robots-Tag:noindex
X-PUBLISHED-TTL:PT1H
BEGIN:VTIMEZONE
TZID:America/Chicago
BEGIN:DAYLIGHT
TZOFFSETFROM:-0600
TZOFFSETTO:-0500
TZNAME:CDT
DTSTART:20230312T080000
END:DAYLIGHT
BEGIN:STANDARD
TZOFFSETFROM:-0500
TZOFFSETTO:-0600
TZNAME:CST
DTSTART:20231105T070000
END:STANDARD
BEGIN:DAYLIGHT
TZOFFSETFROM:-0600
TZOFFSETTO:-0500
TZNAME:CDT
DTSTART:20240310T080000
END:DAYLIGHT
BEGIN:STANDARD
TZOFFSETFROM:-0500
TZOFFSETTO:-0600
TZNAME:CST
DTSTART:20241103T070000
END:STANDARD
BEGIN:DAYLIGHT
TZOFFSETFROM:-0600
TZOFFSETTO:-0500
TZNAME:CDT
DTSTART:20250309T080000
END:DAYLIGHT
BEGIN:STANDARD
TZOFFSETFROM:-0500
TZOFFSETTO:-0600
TZNAME:CST
DTSTART:20251102T070000
END:STANDARD
END:VTIMEZONE
BEGIN:VEVENT
DTSTART;TZID=America/Chicago:20240601T083000
DTEND;TZID=America/Chicago:20240601T083000
DTSTAMP:20260421T190112
CREATED:20240110T213832Z
LAST-MODIFIED:20240110T213832Z
UID:3735-1717230600-1717230600@missiontownship.org
SUMMARY:Hall - HLPOA
DESCRIPTION:
URL:https://missiontownship.org/event/hall-hlpoa-17/
END:VEVENT
BEGIN:VEVENT
DTSTART;TZID=America/Chicago:20240601T110000
DTEND;TZID=America/Chicago:20240601T170000
DTSTAMP:20260421T190112
CREATED:20240507T171736Z
LAST-MODIFIED:20240507T171736Z
UID:4012-1717239600-1717261200@missiontownship.org
SUMMARY:Park - Risk
DESCRIPTION:
URL:https://missiontownship.org/event/park-risk/
END:VEVENT
BEGIN:VEVENT
DTSTART;TZID=America/Chicago:20240606T173000
DTEND;TZID=America/Chicago:20240606T173000
DTSTAMP:20260421T190112
CREATED:20240110T214037Z
LAST-MODIFIED:20240110T214037Z
UID:3737-1717695000-1717695000@missiontownship.org
SUMMARY:Road Comm. Mtg.
DESCRIPTION:
URL:https://missiontownship.org/event/road-comm-mtg-2/
END:VEVENT
BEGIN:VEVENT
DTSTART;TZID=America/Chicago:20240610T190000
DTEND;TZID=America/Chicago:20240610T203000
DTSTAMP:20260421T190112
CREATED:20240110T214335Z
LAST-MODIFIED:20240110T214536Z
UID:3739-1718046000-1718051400@missiontownship.org
SUMMARY:Regular Township Meeting
DESCRIPTION:
URL:https://missiontownship.org/event/regular-township-meeting-27/
END:VEVENT
BEGIN:VEVENT
DTSTART;TZID=America/Chicago:20240611T190000
DTEND;TZID=America/Chicago:20240611T210000
DTSTAMP:20260421T190112
CREATED:20240110T214652Z
LAST-MODIFIED:20240110T215206Z
UID:3741-1718132400-1718139600@missiontownship.org
SUMMARY:Fire Dept. Mtg.
DESCRIPTION:
URL:https://missiontownship.org/event/fire-dept-mtg-12/
END:VEVENT
BEGIN:VEVENT
DTSTART;TZID=America/Chicago:20240622T110000
DTEND;TZID=America/Chicago:20240622T130000
DTSTAMP:20260421T190112
CREATED:20240611T150833Z
LAST-MODIFIED:20240611T150833Z
UID:4091-1719054000-1719061200@missiontownship.org
SUMMARY:50th Anniversary Celebration
DESCRIPTION:SAVE THE DATE! SAVE THE DATE! SAVE THE DATE! \nThe fire department will be hosting an open house to celebrate the 50\nYear anniversary of the fire department. Join the fire department on\nJune 22nd from 11 am to 1 pm at the fire department/town hall. There\nwill be FREE pulled pork sandwiches\, chips and water plus FREE root\nbeer floats. Mission Township has moved the root beer floats from\nthe park to the fire hall to join the celebration of the 50th anniversary.\nCongratulations on 50 years of service to our community\, we are\nproud of you. Please note that the parade and root beer floats at the\npark will be cancelled this year due to lack of volunteers.
URL:https://missiontownship.org/event/50th-anniversary-celebration/
END:VEVENT
BEGIN:VEVENT
DTSTART;TZID=America/Chicago:20240627T170000
DTEND;TZID=America/Chicago:20240627T190000
DTSTAMP:20260421T190112
CREATED:20240620T020940Z
LAST-MODIFIED:20240620T020940Z
UID:4096-1719507600-1719514800@missiontownship.org
SUMMARY:Hall - Special Meeting Notice
DESCRIPTION:6-27-2024 Special Meeting Notice
URL:https://missiontownship.org/event/hall-special-meeting-notice/
END:VEVENT
BEGIN:VEVENT
DTSTART;TZID=America/Chicago:20240627T190000
DTEND;TZID=America/Chicago:20240627T190000
DTSTAMP:20260421T190112
CREATED:20240110T215427Z
LAST-MODIFIED:20240110T215427Z
UID:3745-1719514800-1719514800@missiontownship.org
SUMMARY:Hall - HLPOA
DESCRIPTION:
URL:https://missiontownship.org/event/hall-hlpoa-18/
END:VEVENT
END:VCALENDAR