BEGIN:VCALENDAR
VERSION:2.0
PRODID:-//Mission Township - Crow Wing County MN - ECPv6.15.20//NONSGML v1.0//EN
CALSCALE:GREGORIAN
METHOD:PUBLISH
X-WR-CALNAME:Mission Township - Crow Wing County MN
X-ORIGINAL-URL:https://missiontownship.org
X-WR-CALDESC:Events for Mission Township - Crow Wing County MN
REFRESH-INTERVAL;VALUE=DURATION:PT1H
X-Robots-Tag:noindex
X-PUBLISHED-TTL:PT1H
BEGIN:VTIMEZONE
TZID:America/Chicago
BEGIN:DAYLIGHT
TZOFFSETFROM:-0600
TZOFFSETTO:-0500
TZNAME:CDT
DTSTART:20230312T080000
END:DAYLIGHT
BEGIN:STANDARD
TZOFFSETFROM:-0500
TZOFFSETTO:-0600
TZNAME:CST
DTSTART:20231105T070000
END:STANDARD
BEGIN:DAYLIGHT
TZOFFSETFROM:-0600
TZOFFSETTO:-0500
TZNAME:CDT
DTSTART:20240310T080000
END:DAYLIGHT
BEGIN:STANDARD
TZOFFSETFROM:-0500
TZOFFSETTO:-0600
TZNAME:CST
DTSTART:20241103T070000
END:STANDARD
BEGIN:DAYLIGHT
TZOFFSETFROM:-0600
TZOFFSETTO:-0500
TZNAME:CDT
DTSTART:20250309T080000
END:DAYLIGHT
BEGIN:STANDARD
TZOFFSETFROM:-0500
TZOFFSETTO:-0600
TZNAME:CST
DTSTART:20251102T070000
END:STANDARD
END:VTIMEZONE
BEGIN:VEVENT
DTSTART;TZID=America/Chicago:20240408T190000
DTEND;TZID=America/Chicago:20240408T203000
DTSTAMP:20260422T002513
CREATED:20240109T183710Z
LAST-MODIFIED:20240109T183752Z
UID:3721-1712602800-1712608200@missiontownship.org
SUMMARY:Regular Township Mtg.
DESCRIPTION:
URL:https://missiontownship.org/event/regular-township-mtg-9/
END:VEVENT
BEGIN:VEVENT
DTSTART;TZID=America/Chicago:20240409T190000
DTEND;TZID=America/Chicago:20240409T210000
DTSTAMP:20260422T002513
CREATED:20240109T183850Z
LAST-MODIFIED:20240109T183850Z
UID:3723-1712689200-1712696400@missiontownship.org
SUMMARY:Fire Dept Mtg.
DESCRIPTION:
URL:https://missiontownship.org/event/fire-dept-mtg-10/
END:VEVENT
BEGIN:VEVENT
DTSTART;VALUE=DATE:20240412
DTEND;VALUE=DATE:20240416
DTSTAMP:20260422T002513
CREATED:20240109T183955Z
LAST-MODIFIED:20240109T183955Z
UID:3725-1712880000-1713225599@missiontownship.org
SUMMARY:Hall - Quilt Club
DESCRIPTION:
URL:https://missiontownship.org/event/hall-quilt-club-6/
END:VEVENT
BEGIN:VEVENT
DTSTART;TZID=America/Chicago:20240417T180000
DTEND;TZID=America/Chicago:20240417T200000
DTSTAMP:20260422T002513
CREATED:20240322T175046Z
LAST-MODIFIED:20240322T175046Z
UID:3929-1713376800-1713384000@missiontownship.org
SUMMARY:Open House - Roads
DESCRIPTION:Roads Projects Informational Meeting\nMission Board will be hosting an Informational Meeting to share information and respond to questions about our reclamation of Huxtable Point Road and the final portion of East Horseshoe Lake Road from Mission Park Dr to Cty. Road 11.  It will be on Wednesday April 17 @ 6:00pm at Mission Town Hall.  A representative from our township engineer Bolton & Menk and town board members will be present.  Anyone impacted by or interested in these projects are invited to attend.
URL:https://missiontownship.org/event/open-house-roads/
END:VEVENT
BEGIN:VEVENT
DTSTART;TZID=America/Chicago:20240422T100000
DTEND;TZID=America/Chicago:20240422T120000
DTSTAMP:20260422T002513
CREATED:20240409T143003Z
LAST-MODIFIED:20240409T143003Z
UID:3978-1713780000-1713787200@missiontownship.org
SUMMARY:Hall - Board of Equalization
DESCRIPTION:
URL:https://missiontownship.org/event/hall-board-of-equalization/
END:VEVENT
BEGIN:VEVENT
DTSTART;TZID=America/Chicago:20240425T173000
DTEND;TZID=America/Chicago:20240425T183000
DTSTAMP:20260422T002513
CREATED:20240109T184053Z
LAST-MODIFIED:20240109T184053Z
UID:3727-1714066200-1714069800@missiontownship.org
SUMMARY:Roads Comm Mtg.
DESCRIPTION:
URL:https://missiontownship.org/event/roads-comm-mtg/
END:VEVENT
BEGIN:VEVENT
DTSTART;TZID=America/Chicago:20240430T190000
DTEND;TZID=America/Chicago:20240430T210000
DTSTAMP:20260422T002513
CREATED:20240419T181731Z
LAST-MODIFIED:20240419T181731Z
UID:3993-1714503600-1714510800@missiontownship.org
SUMMARY:Hall - Fire Relief Special Mtg
DESCRIPTION:Fire Relief will be meeting at Mission Town Hall for upcoming event discussion and decisions (street dance\, summer send-off\, raffle update and mission township parade/park event)
URL:https://missiontownship.org/event/hall-fire-relief-special-mtg/
END:VEVENT
END:VCALENDAR