BEGIN:VCALENDAR
VERSION:2.0
PRODID:-//Mission Township - Crow Wing County MN - ECPv6.15.20//NONSGML v1.0//EN
CALSCALE:GREGORIAN
METHOD:PUBLISH
X-ORIGINAL-URL:https://missiontownship.org
X-WR-CALDESC:Events for Mission Township - Crow Wing County MN
REFRESH-INTERVAL;VALUE=DURATION:PT1H
X-Robots-Tag:noindex
X-PUBLISHED-TTL:PT1H
BEGIN:VTIMEZONE
TZID:America/Chicago
BEGIN:DAYLIGHT
TZOFFSETFROM:-0600
TZOFFSETTO:-0500
TZNAME:CDT
DTSTART:20230312T080000
END:DAYLIGHT
BEGIN:STANDARD
TZOFFSETFROM:-0500
TZOFFSETTO:-0600
TZNAME:CST
DTSTART:20231105T070000
END:STANDARD
BEGIN:DAYLIGHT
TZOFFSETFROM:-0600
TZOFFSETTO:-0500
TZNAME:CDT
DTSTART:20240310T080000
END:DAYLIGHT
BEGIN:STANDARD
TZOFFSETFROM:-0500
TZOFFSETTO:-0600
TZNAME:CST
DTSTART:20241103T070000
END:STANDARD
BEGIN:DAYLIGHT
TZOFFSETFROM:-0600
TZOFFSETTO:-0500
TZNAME:CDT
DTSTART:20250309T080000
END:DAYLIGHT
BEGIN:STANDARD
TZOFFSETFROM:-0500
TZOFFSETTO:-0600
TZNAME:CST
DTSTART:20251102T070000
END:STANDARD
END:VTIMEZONE
BEGIN:VEVENT
DTSTART;TZID=America/Chicago:20240304T180000
DTEND;TZID=America/Chicago:20240304T190000
DTSTAMP:20260422T020706
CREATED:20240214T184256Z
LAST-MODIFIED:20240214T184256Z
UID:3850-1709575200-1709578800@missiontownship.org
SUMMARY:Special Meeting Notice
DESCRIPTION:Mission Town Board will meet to interview for Assistant Fire Chief
URL:https://missiontownship.org/event/special-meeting-notice-2/
END:VEVENT
BEGIN:VEVENT
DTSTART;TZID=America/Chicago:20240311T190000
DTEND;TZID=America/Chicago:20240311T203000
DTSTAMP:20260422T020706
CREATED:20240109T183231Z
LAST-MODIFIED:20240109T183231Z
UID:3717-1710183600-1710189000@missiontownship.org
SUMMARY:Regular Township Mtg.
DESCRIPTION:
URL:https://missiontownship.org/event/regular-township-mtg-8/
END:VEVENT
BEGIN:VEVENT
DTSTART;TZID=America/Chicago:20240312T190000
DTEND;TZID=America/Chicago:20240312T203000
DTSTAMP:20260422T020706
CREATED:20240109T183549Z
LAST-MODIFIED:20240109T183549Z
UID:3719-1710270000-1710275400@missiontownship.org
SUMMARY:Annual Township Meeting
DESCRIPTION:
URL:https://missiontownship.org/event/annual-township-meeting-4/
END:VEVENT
BEGIN:VEVENT
DTSTART;VALUE=DATE:20240325
DTEND;VALUE=DATE:20240326
DTSTAMP:20260422T020706
CREATED:20240124T185502Z
LAST-MODIFIED:20240124T185502Z
UID:3798-1711324800-1711411199@missiontownship.org
SUMMARY:Breezy Point - Spring Short Course
DESCRIPTION:Mission Town Board has the opportunity for training at the M.A.T. Spring Short Course at Breezy Point.
URL:https://missiontownship.org/event/breezy-point-spring-short-course/
END:VEVENT
END:VCALENDAR