BEGIN:VCALENDAR
VERSION:2.0
PRODID:-//Mission Township - Crow Wing County MN - ECPv6.15.20//NONSGML v1.0//EN
CALSCALE:GREGORIAN
METHOD:PUBLISH
X-WR-CALNAME:Mission Township - Crow Wing County MN
X-ORIGINAL-URL:https://missiontownship.org
X-WR-CALDESC:Events for Mission Township - Crow Wing County MN
REFRESH-INTERVAL;VALUE=DURATION:PT1H
X-Robots-Tag:noindex
X-PUBLISHED-TTL:PT1H
BEGIN:VTIMEZONE
TZID:America/Chicago
BEGIN:DAYLIGHT
TZOFFSETFROM:-0600
TZOFFSETTO:-0500
TZNAME:CDT
DTSTART:20230312T080000
END:DAYLIGHT
BEGIN:STANDARD
TZOFFSETFROM:-0500
TZOFFSETTO:-0600
TZNAME:CST
DTSTART:20231105T070000
END:STANDARD
BEGIN:DAYLIGHT
TZOFFSETFROM:-0600
TZOFFSETTO:-0500
TZNAME:CDT
DTSTART:20240310T080000
END:DAYLIGHT
BEGIN:STANDARD
TZOFFSETFROM:-0500
TZOFFSETTO:-0600
TZNAME:CST
DTSTART:20241103T070000
END:STANDARD
BEGIN:DAYLIGHT
TZOFFSETFROM:-0600
TZOFFSETTO:-0500
TZNAME:CDT
DTSTART:20250309T080000
END:DAYLIGHT
BEGIN:STANDARD
TZOFFSETFROM:-0500
TZOFFSETTO:-0600
TZNAME:CST
DTSTART:20251102T070000
END:STANDARD
END:VTIMEZONE
BEGIN:VEVENT
DTSTART;TZID=America/Chicago:20240201T173000
DTEND;TZID=America/Chicago:20240201T183000
DTSTAMP:20260422T040505
CREATED:20240109T182950Z
LAST-MODIFIED:20240124T164112Z
UID:3711-1706808600-1706812200@missiontownship.org
SUMMARY:Road Comm. Mtg - CANCELLED
DESCRIPTION:Roads Committee Meeting has been Cancelled – Please note on your calendar
URL:https://missiontownship.org/event/road-comm-mtg/
END:VEVENT
BEGIN:VEVENT
DTSTART;TZID=America/Chicago:20240201T183000
DTEND;TZID=America/Chicago:20240201T193000
DTSTAMP:20260422T040505
CREATED:20240109T182739Z
LAST-MODIFIED:20240109T182739Z
UID:3707-1706812200-1706815800@missiontownship.org
SUMMARY:Fire Dept. Workshop Mtg.
DESCRIPTION:Mission Town Board will meet with Fire Chief Chad Allord to review the structure of the Dept.
URL:https://missiontownship.org/event/fire-dept-workshop-mtg/
END:VEVENT
BEGIN:VEVENT
DTSTART;TZID=America/Chicago:20240205T180000
DTEND;TZID=America/Chicago:20240205T193000
DTSTAMP:20260422T040505
CREATED:20240109T182900Z
LAST-MODIFIED:20240109T182900Z
UID:3709-1707156000-1707161400@missiontownship.org
SUMMARY:Budget/Levy Mtg.
DESCRIPTION:Mission Town Board will meet for the 2025 Budget/Levy
URL:https://missiontownship.org/event/budget-levy-mtg/
END:VEVENT
BEGIN:VEVENT
DTSTART;TZID=America/Chicago:20240212T190000
DTEND;TZID=America/Chicago:20240212T210000
DTSTAMP:20260422T040505
CREATED:20240109T183030Z
LAST-MODIFIED:20240202T200826Z
UID:3713-1707764400-1707771600@missiontownship.org
SUMMARY:Regular Township Meeting
DESCRIPTION:
URL:https://missiontownship.org/event/regular-township-meeting-26/
END:VEVENT
BEGIN:VEVENT
DTSTART;TZID=America/Chicago:20240213T200000
DTEND;TZID=America/Chicago:20240213T220000
DTSTAMP:20260422T040505
CREATED:20240109T183127Z
LAST-MODIFIED:20240202T200732Z
UID:3715-1707854400-1707861600@missiontownship.org
SUMMARY:Fire Dept Mtg.
DESCRIPTION:
URL:https://missiontownship.org/event/fire-dept-mtg-9/
END:VEVENT
END:VCALENDAR