BEGIN:VCALENDAR
VERSION:2.0
PRODID:-//Mission Township - Crow Wing County MN - ECPv6.15.20//NONSGML v1.0//EN
CALSCALE:GREGORIAN
METHOD:PUBLISH
X-WR-CALNAME:Mission Township - Crow Wing County MN
X-ORIGINAL-URL:https://missiontownship.org
X-WR-CALDESC:Events for Mission Township - Crow Wing County MN
REFRESH-INTERVAL;VALUE=DURATION:PT1H
X-Robots-Tag:noindex
X-PUBLISHED-TTL:PT1H
BEGIN:VTIMEZONE
TZID:America/Chicago
BEGIN:DAYLIGHT
TZOFFSETFROM:-0600
TZOFFSETTO:-0500
TZNAME:CDT
DTSTART:20220313T080000
END:DAYLIGHT
BEGIN:STANDARD
TZOFFSETFROM:-0500
TZOFFSETTO:-0600
TZNAME:CST
DTSTART:20221106T070000
END:STANDARD
BEGIN:DAYLIGHT
TZOFFSETFROM:-0600
TZOFFSETTO:-0500
TZNAME:CDT
DTSTART:20230312T080000
END:DAYLIGHT
BEGIN:STANDARD
TZOFFSETFROM:-0500
TZOFFSETTO:-0600
TZNAME:CST
DTSTART:20231105T070000
END:STANDARD
BEGIN:DAYLIGHT
TZOFFSETFROM:-0600
TZOFFSETTO:-0500
TZNAME:CDT
DTSTART:20240310T080000
END:DAYLIGHT
BEGIN:STANDARD
TZOFFSETFROM:-0500
TZOFFSETTO:-0600
TZNAME:CST
DTSTART:20241103T070000
END:STANDARD
END:VTIMEZONE
BEGIN:VEVENT
DTSTART;TZID=America/Chicago:20231204T180000
DTEND;TZID=America/Chicago:20231204T180000
DTSTAMP:20260422T071940
CREATED:20230123T211754Z
LAST-MODIFIED:20230123T211754Z
UID:2919-1701712800-1701712800@missiontownship.org
SUMMARY:Reorganization Meeting
DESCRIPTION:
URL:https://missiontownship.org/event/reorganization-meeting-2/
END:VEVENT
BEGIN:VEVENT
DTSTART;TZID=America/Chicago:20231211T190000
DTEND;TZID=America/Chicago:20231211T190000
DTSTAMP:20260422T071940
CREATED:20230123T212057Z
LAST-MODIFIED:20230123T212057Z
UID:2921-1702321200-1702321200@missiontownship.org
SUMMARY:Regular Township Meeting
DESCRIPTION:
URL:https://missiontownship.org/event/regular-township-meeting-24/
END:VEVENT
BEGIN:VEVENT
DTSTART;TZID=America/Chicago:20231212T183000
DTEND;TZID=America/Chicago:20231212T193000
DTSTAMP:20260422T071940
CREATED:20231211T210148Z
LAST-MODIFIED:20231211T210148Z
UID:3639-1702405800-1702409400@missiontownship.org
SUMMARY:Fire Contract Meeting - Center Twp.
DESCRIPTION:Mission Town Board will be meeting at Center Township Hall to review the Fire Contract with Center Town Board.
URL:https://missiontownship.org/event/fire-contract-meeting-center-twp/
END:VEVENT
BEGIN:VEVENT
DTSTART;TZID=America/Chicago:20231212T200000
DTEND;TZID=America/Chicago:20231212T200000
DTSTAMP:20260422T071940
CREATED:20230123T212150Z
LAST-MODIFIED:20230123T212150Z
UID:2923-1702411200-1702411200@missiontownship.org
SUMMARY:Fire Dept. Mtg.
DESCRIPTION:
URL:https://missiontownship.org/event/fire-dept-mtg-8/
END:VEVENT
BEGIN:VEVENT
DTSTART;TZID=America/Chicago:20231214T173000
DTEND;TZID=America/Chicago:20231214T173000
DTSTAMP:20260422T071940
CREATED:20230123T212248Z
LAST-MODIFIED:20230123T212248Z
UID:2925-1702575000-1702575000@missiontownship.org
SUMMARY:Road Committee Meeting
DESCRIPTION:
URL:https://missiontownship.org/event/road-committee-meeting/
END:VEVENT
BEGIN:VEVENT
DTSTART;TZID=America/Chicago:20231230T160000
DTEND;TZID=America/Chicago:20231230T200000
DTSTAMP:20260422T071940
CREATED:20231101T153045Z
LAST-MODIFIED:20231101T153045Z
UID:3556-1703952000-1703966400@missiontownship.org
SUMMARY:Hall - Johnson
DESCRIPTION:Shane Johnson B-day party
URL:https://missiontownship.org/event/hall-johnson-3/
END:VEVENT
END:VCALENDAR