BEGIN:VCALENDAR
VERSION:2.0
PRODID:-//Mission Township - Crow Wing County MN - ECPv6.15.20//NONSGML v1.0//EN
CALSCALE:GREGORIAN
METHOD:PUBLISH
X-ORIGINAL-URL:https://missiontownship.org
X-WR-CALDESC:Events for Mission Township - Crow Wing County MN
REFRESH-INTERVAL;VALUE=DURATION:PT1H
X-Robots-Tag:noindex
X-PUBLISHED-TTL:PT1H
BEGIN:VTIMEZONE
TZID:America/Chicago
BEGIN:DAYLIGHT
TZOFFSETFROM:-0600
TZOFFSETTO:-0500
TZNAME:CDT
DTSTART:20220313T080000
END:DAYLIGHT
BEGIN:STANDARD
TZOFFSETFROM:-0500
TZOFFSETTO:-0600
TZNAME:CST
DTSTART:20221106T070000
END:STANDARD
BEGIN:DAYLIGHT
TZOFFSETFROM:-0600
TZOFFSETTO:-0500
TZNAME:CDT
DTSTART:20230312T080000
END:DAYLIGHT
BEGIN:STANDARD
TZOFFSETFROM:-0500
TZOFFSETTO:-0600
TZNAME:CST
DTSTART:20231105T070000
END:STANDARD
BEGIN:DAYLIGHT
TZOFFSETFROM:-0600
TZOFFSETTO:-0500
TZNAME:CDT
DTSTART:20240310T080000
END:DAYLIGHT
BEGIN:STANDARD
TZOFFSETFROM:-0500
TZOFFSETTO:-0600
TZNAME:CST
DTSTART:20241103T070000
END:STANDARD
END:VTIMEZONE
BEGIN:VEVENT
DTSTART;TZID=America/Chicago:20231107T120000
DTEND;TZID=America/Chicago:20231107T200000
DTSTAMP:20260422T085945
CREATED:20230809T175333Z
LAST-MODIFIED:20230809T175333Z
UID:3373-1699358400-1699387200@missiontownship.org
SUMMARY:Hall - Crosby Ironton School Dist.
DESCRIPTION:Crosby Ironton School District will be holding a ‘Special Election’.  Polling hours are from Noon to 8:00pm
URL:https://missiontownship.org/event/hall-crosby-ironton-school-dist/
END:VEVENT
BEGIN:VEVENT
DTSTART;TZID=America/Chicago:20231112T150000
DTEND;TZID=America/Chicago:20231112T200000
DTSTAMP:20260422T085945
CREATED:20231101T152852Z
LAST-MODIFIED:20231101T152852Z
UID:3554-1699801200-1699819200@missiontownship.org
SUMMARY:Hall - Johnson
DESCRIPTION:Shane Johnson B-day party
URL:https://missiontownship.org/event/hall-johnson-2/
END:VEVENT
BEGIN:VEVENT
DTSTART;TZID=America/Chicago:20231113T190000
DTEND;TZID=America/Chicago:20231113T190000
DTSTAMP:20260422T085945
CREATED:20230123T211228Z
LAST-MODIFIED:20230123T211228Z
UID:2915-1699902000-1699902000@missiontownship.org
SUMMARY:Regular Township Meeting
DESCRIPTION:
URL:https://missiontownship.org/event/regular-township-meeting-23/
END:VEVENT
BEGIN:VEVENT
DTSTART;TZID=America/Chicago:20231114T200000
DTEND;TZID=America/Chicago:20231114T200000
DTSTAMP:20260422T085945
CREATED:20230123T211352Z
LAST-MODIFIED:20230123T211352Z
UID:2917-1699992000-1699992000@missiontownship.org
SUMMARY:Fire Dept. Mtg.
DESCRIPTION:
URL:https://missiontownship.org/event/fire-dept-mtg-7/
END:VEVENT
BEGIN:VEVENT
DTSTART;TZID=America/Chicago:20231120T170000
DTEND;TZID=America/Chicago:20231120T193000
DTSTAMP:20260422T085945
CREATED:20231115T173517Z
LAST-MODIFIED:20231115T173517Z
UID:3592-1700499600-1700508600@missiontownship.org
SUMMARY:Hall - Fire Chief Interviews
DESCRIPTION:Nov – 2023 Fire Chief Interview Schedule
URL:https://missiontownship.org/event/hall-fire-chief-interviews/
END:VEVENT
BEGIN:VEVENT
DTSTART;TZID=America/Chicago:20231121T170000
DTEND;TZID=America/Chicago:20231121T183000
DTSTAMP:20260422T085945
CREATED:20231115T173628Z
LAST-MODIFIED:20231115T173628Z
UID:3595-1700586000-1700591400@missiontownship.org
SUMMARY:Hall - Fire Chief Interviews
DESCRIPTION:Nov – 2023 Fire Chief Interview Schedule
URL:https://missiontownship.org/event/hall-fire-chief-interviews-2/
END:VEVENT
END:VCALENDAR