BEGIN:VCALENDAR
VERSION:2.0
PRODID:-//Mission Township - Crow Wing County MN - ECPv6.15.20//NONSGML v1.0//EN
CALSCALE:GREGORIAN
METHOD:PUBLISH
X-WR-CALNAME:Mission Township - Crow Wing County MN
X-ORIGINAL-URL:https://missiontownship.org
X-WR-CALDESC:Events for Mission Township - Crow Wing County MN
REFRESH-INTERVAL;VALUE=DURATION:PT1H
X-Robots-Tag:noindex
X-PUBLISHED-TTL:PT1H
BEGIN:VTIMEZONE
TZID:America/Chicago
BEGIN:DAYLIGHT
TZOFFSETFROM:-0600
TZOFFSETTO:-0500
TZNAME:CDT
DTSTART:20220313T080000
END:DAYLIGHT
BEGIN:STANDARD
TZOFFSETFROM:-0500
TZOFFSETTO:-0600
TZNAME:CST
DTSTART:20221106T070000
END:STANDARD
BEGIN:DAYLIGHT
TZOFFSETFROM:-0600
TZOFFSETTO:-0500
TZNAME:CDT
DTSTART:20230312T080000
END:DAYLIGHT
BEGIN:STANDARD
TZOFFSETFROM:-0500
TZOFFSETTO:-0600
TZNAME:CST
DTSTART:20231105T070000
END:STANDARD
BEGIN:DAYLIGHT
TZOFFSETFROM:-0600
TZOFFSETTO:-0500
TZNAME:CDT
DTSTART:20240310T080000
END:DAYLIGHT
BEGIN:STANDARD
TZOFFSETFROM:-0500
TZOFFSETTO:-0600
TZNAME:CST
DTSTART:20241103T070000
END:STANDARD
END:VTIMEZONE
BEGIN:VEVENT
DTSTART;TZID=America/Chicago:20230802T100000
DTEND;TZID=America/Chicago:20230802T110000
DTSTAMP:20260422T135613
CREATED:20230728T171508Z
LAST-MODIFIED:20230728T171508Z
UID:3360-1690970400-1690974000@missiontownship.org
SUMMARY:Park Committee Mtg
DESCRIPTION:Park Committee Meeting at Mission Park
URL:https://missiontownship.org/event/park-committee-mtg-3/
END:VEVENT
BEGIN:VEVENT
DTSTART;VALUE=DATE:20230804
DTEND;VALUE=DATE:20230806
DTSTAMP:20260422T135613
CREATED:20230123T205340Z
LAST-MODIFIED:20230123T205340Z
UID:2894-1691107200-1691279999@missiontownship.org
SUMMARY:Park - Clow Stamping
DESCRIPTION:
URL:https://missiontownship.org/event/park-clow-stamping-2/
END:VEVENT
BEGIN:VEVENT
DTSTART;TZID=America/Chicago:20230805T073000
DTEND;TZID=America/Chicago:20230805T103000
DTSTAMP:20260422T135613
CREATED:20230721T201827Z
LAST-MODIFIED:20230721T201827Z
UID:3353-1691220600-1691231400@missiontownship.org
SUMMARY:Hall - HLPOA Annual Meeting
DESCRIPTION:Horseshoe Lake Property Owners Association Annual Meeting
URL:https://missiontownship.org/event/hall-hlpoa-annual-meeting/
END:VEVENT
BEGIN:VEVENT
DTSTART;TZID=America/Chicago:20230808T200000
DTEND;TZID=America/Chicago:20230808T200000
DTSTAMP:20260422T135613
CREATED:20230123T203321Z
LAST-MODIFIED:20230123T203321Z
UID:2888-1691524800-1691524800@missiontownship.org
SUMMARY:Fire Dept. Mtg.
DESCRIPTION:
URL:https://missiontownship.org/event/fire-dept-mtg-4/
END:VEVENT
BEGIN:VEVENT
DTSTART;TZID=America/Chicago:20230810T173000
DTEND;TZID=America/Chicago:20230810T173000
DTSTAMP:20260422T135613
CREATED:20230123T203412Z
LAST-MODIFIED:20230123T203412Z
UID:2890-1691688600-1691688600@missiontownship.org
SUMMARY:Road Committee Mtg.
DESCRIPTION:
URL:https://missiontownship.org/event/road-committee-mtg-10/
END:VEVENT
BEGIN:VEVENT
DTSTART;TZID=America/Chicago:20230812T080000
DTEND;TZID=America/Chicago:20230812T100000
DTSTAMP:20260422T135613
CREATED:20230123T203459Z
LAST-MODIFIED:20230123T204345Z
UID:2892-1691827200-1691834400@missiontownship.org
SUMMARY:Hall - HLPOA
DESCRIPTION:
URL:https://missiontownship.org/event/hall-hlpoa-14/
END:VEVENT
BEGIN:VEVENT
DTSTART;TZID=America/Chicago:20230814T190000
DTEND;TZID=America/Chicago:20230814T210000
DTSTAMP:20260422T135613
CREATED:20230721T152518Z
LAST-MODIFIED:20230721T152518Z
UID:3351-1692039600-1692046800@missiontownship.org
SUMMARY:Regular Township Meeting
DESCRIPTION:Mission Town Board will meet for the Regular Township Meeting
URL:https://missiontownship.org/event/regular-township-meeting-20/
END:VEVENT
BEGIN:VEVENT
DTSTART;TZID=America/Chicago:20230819T093000
DTEND;TZID=America/Chicago:20230819T120000
DTSTAMP:20260422T135613
CREATED:20230626T162321Z
LAST-MODIFIED:20230626T162321Z
UID:3310-1692437400-1692446400@missiontownship.org
SUMMARY:Park - Bass Lake Association
DESCRIPTION:
URL:https://missiontownship.org/event/park-bass-lake-association/
END:VEVENT
BEGIN:VEVENT
DTSTART;TZID=America/Chicago:20230820T090000
DTEND;TZID=America/Chicago:20230820T170000
DTSTAMP:20260422T135613
CREATED:20230720T194543Z
LAST-MODIFIED:20230720T194543Z
UID:3349-1692522000-1692550800@missiontownship.org
SUMMARY:Park - Hansen
DESCRIPTION:Carol Hansen
URL:https://missiontownship.org/event/park-hansen/
END:VEVENT
BEGIN:VEVENT
DTSTART;TZID=America/Chicago:20230826T110000
DTEND;TZID=America/Chicago:20230826T170000
DTSTAMP:20260422T135613
CREATED:20230626T184238Z
LAST-MODIFIED:20230626T184238Z
UID:3312-1693047600-1693069200@missiontownship.org
SUMMARY:Hall - Fire Dept
DESCRIPTION:Mission Fire Dept. will be having an Open House/Summer Send Off event at The Mission Town/Fire Hall
URL:https://missiontownship.org/event/hall-fire-dept/
END:VEVENT
BEGIN:VEVENT
DTSTART;TZID=America/Chicago:20230830T113000
DTEND;TZID=America/Chicago:20230830T170000
DTSTAMP:20260422T135613
CREATED:20230724T205334Z
LAST-MODIFIED:20230724T205334Z
UID:3355-1693395000-1693414800@missiontownship.org
SUMMARY:Park - CWC
DESCRIPTION:Crow Wing County Community Corrections Dept. – Yearly Retreat
URL:https://missiontownship.org/event/park-cwc/
END:VEVENT
END:VCALENDAR