BEGIN:VCALENDAR
VERSION:2.0
PRODID:-//Mission Township - Crow Wing County MN - ECPv6.15.20//NONSGML v1.0//EN
CALSCALE:GREGORIAN
METHOD:PUBLISH
X-WR-CALNAME:Mission Township - Crow Wing County MN
X-ORIGINAL-URL:https://missiontownship.org
X-WR-CALDESC:Events for Mission Township - Crow Wing County MN
REFRESH-INTERVAL;VALUE=DURATION:PT1H
X-Robots-Tag:noindex
X-PUBLISHED-TTL:PT1H
BEGIN:VTIMEZONE
TZID:America/Chicago
BEGIN:DAYLIGHT
TZOFFSETFROM:-0600
TZOFFSETTO:-0500
TZNAME:CDT
DTSTART:20220313T080000
END:DAYLIGHT
BEGIN:STANDARD
TZOFFSETFROM:-0500
TZOFFSETTO:-0600
TZNAME:CST
DTSTART:20221106T070000
END:STANDARD
BEGIN:DAYLIGHT
TZOFFSETFROM:-0600
TZOFFSETTO:-0500
TZNAME:CDT
DTSTART:20230312T080000
END:DAYLIGHT
BEGIN:STANDARD
TZOFFSETFROM:-0500
TZOFFSETTO:-0600
TZNAME:CST
DTSTART:20231105T070000
END:STANDARD
BEGIN:DAYLIGHT
TZOFFSETFROM:-0600
TZOFFSETTO:-0500
TZNAME:CDT
DTSTART:20240310T080000
END:DAYLIGHT
BEGIN:STANDARD
TZOFFSETFROM:-0500
TZOFFSETTO:-0600
TZNAME:CST
DTSTART:20241103T070000
END:STANDARD
END:VTIMEZONE
BEGIN:VEVENT
DTSTART;TZID=America/Chicago:20230704T100000
DTEND;TZID=America/Chicago:20230704T190000
DTSTAMP:20260422T180347
CREATED:20230605T163506Z
LAST-MODIFIED:20230605T163506Z
UID:3262-1688464800-1688497200@missiontownship.org
SUMMARY:Park - Christensen
DESCRIPTION:
URL:https://missiontownship.org/event/park-christensen/
END:VEVENT
BEGIN:VEVENT
DTSTART;TZID=America/Chicago:20230710T180000
DTEND;TZID=America/Chicago:20230710T190000
DTSTAMP:20260422T180347
CREATED:20230630T201020Z
LAST-MODIFIED:20230630T201020Z
UID:3322-1689012000-1689015600@missiontownship.org
SUMMARY:Hall - Special Meeting
DESCRIPTION:7-10-2023 Notice of Special Town Board Meeting
URL:https://missiontownship.org/event/hall-special-meeting-4/
END:VEVENT
BEGIN:VEVENT
DTSTART;TZID=America/Chicago:20230710T190000
DTEND;TZID=America/Chicago:20230710T203000
DTSTAMP:20260422T180347
CREATED:20230123T202747Z
LAST-MODIFIED:20230123T202747Z
UID:2882-1689015600-1689021000@missiontownship.org
SUMMARY:Regular Township Meeting
DESCRIPTION:
URL:https://missiontownship.org/event/regular-township-meeting-19/
END:VEVENT
BEGIN:VEVENT
DTSTART;TZID=America/Chicago:20230711T200000
DTEND;TZID=America/Chicago:20230711T210000
DTSTAMP:20260422T180347
CREATED:20230123T202843Z
LAST-MODIFIED:20230123T202843Z
UID:2884-1689105600-1689109200@missiontownship.org
SUMMARY:Fire Dept. Mtg.
DESCRIPTION:
URL:https://missiontownship.org/event/fire-dept-mtg-3/
END:VEVENT
END:VCALENDAR