BEGIN:VCALENDAR
VERSION:2.0
PRODID:-//Mission Township - Crow Wing County MN - ECPv6.15.20//NONSGML v1.0//EN
CALSCALE:GREGORIAN
METHOD:PUBLISH
X-ORIGINAL-URL:https://missiontownship.org
X-WR-CALDESC:Events for Mission Township - Crow Wing County MN
REFRESH-INTERVAL;VALUE=DURATION:PT1H
X-Robots-Tag:noindex
X-PUBLISHED-TTL:PT1H
BEGIN:VTIMEZONE
TZID:America/Chicago
BEGIN:DAYLIGHT
TZOFFSETFROM:-0600
TZOFFSETTO:-0500
TZNAME:CDT
DTSTART:20220313T080000
END:DAYLIGHT
BEGIN:STANDARD
TZOFFSETFROM:-0500
TZOFFSETTO:-0600
TZNAME:CST
DTSTART:20221106T070000
END:STANDARD
BEGIN:DAYLIGHT
TZOFFSETFROM:-0600
TZOFFSETTO:-0500
TZNAME:CDT
DTSTART:20230312T080000
END:DAYLIGHT
BEGIN:STANDARD
TZOFFSETFROM:-0500
TZOFFSETTO:-0600
TZNAME:CST
DTSTART:20231105T070000
END:STANDARD
BEGIN:DAYLIGHT
TZOFFSETFROM:-0600
TZOFFSETTO:-0500
TZNAME:CDT
DTSTART:20240310T080000
END:DAYLIGHT
BEGIN:STANDARD
TZOFFSETFROM:-0500
TZOFFSETTO:-0600
TZNAME:CST
DTSTART:20241103T070000
END:STANDARD
END:VTIMEZONE
BEGIN:VEVENT
DTSTART;TZID=America/Chicago:20230603T080000
DTEND;TZID=America/Chicago:20230603T100000
DTSTAMP:20260422T193140
CREATED:20230119T030834Z
LAST-MODIFIED:20230119T030834Z
UID:2857-1685779200-1685786400@missiontownship.org
SUMMARY:Hall - HLPOA
DESCRIPTION:Horseshoe Lake Property Owners Association Meeting
URL:https://missiontownship.org/event/hall-hlpoa-12/
END:VEVENT
BEGIN:VEVENT
DTSTART;TZID=America/Chicago:20230606T190000
DTEND;TZID=America/Chicago:20230606T200000
DTSTAMP:20260422T193140
CREATED:20230525T153354Z
LAST-MODIFIED:20230525T153354Z
UID:3255-1686078000-1686081600@missiontownship.org
SUMMARY:Special Fire Relief Mtg - Hall
DESCRIPTION:
URL:https://missiontownship.org/event/special-fire-relief-mtg-hall/
END:VEVENT
BEGIN:VEVENT
DTSTART;TZID=America/Chicago:20230608T173000
DTEND;TZID=America/Chicago:20230608T183000
DTSTAMP:20260422T193140
CREATED:20230119T030935Z
LAST-MODIFIED:20230525T151311Z
UID:2859-1686245400-1686249000@missiontownship.org
SUMMARY:5:30p Roads Committee Mtg - CANCELLED
DESCRIPTION:
URL:https://missiontownship.org/event/530p-roads-committee-mtg/
END:VEVENT
BEGIN:VEVENT
DTSTART;TZID=America/Chicago:20230612T190000
DTEND;TZID=America/Chicago:20230612T203000
DTSTAMP:20260422T193140
CREATED:20230119T031043Z
LAST-MODIFIED:20230119T031043Z
UID:2861-1686596400-1686601800@missiontownship.org
SUMMARY:7:00pm Regular Township Meeting
DESCRIPTION:
URL:https://missiontownship.org/event/700pm-regular-township-meeting-2/
END:VEVENT
BEGIN:VEVENT
DTSTART;TZID=America/Chicago:20230613T200000
DTEND;TZID=America/Chicago:20230613T210000
DTSTAMP:20260422T193140
CREATED:20230119T031143Z
LAST-MODIFIED:20230119T031143Z
UID:2863-1686686400-1686690000@missiontownship.org
SUMMARY:8:00pm Fire Dept Mtg
DESCRIPTION:
URL:https://missiontownship.org/event/800pm-fire-dept-mtg/
END:VEVENT
BEGIN:VEVENT
DTSTART;VALUE=DATE:20230616
DTEND;VALUE=DATE:20230618
DTSTAMP:20260422T193140
CREATED:20230123T202218Z
LAST-MODIFIED:20230123T202218Z
UID:2877-1686873600-1687046399@missiontownship.org
SUMMARY:Park - Blasiak Wedding
DESCRIPTION:
URL:https://missiontownship.org/event/park-blasiak-wedding/
END:VEVENT
BEGIN:VEVENT
DTSTART;TZID=America/Chicago:20230629T190000
DTEND;TZID=America/Chicago:20230629T203000
DTSTAMP:20260422T193140
CREATED:20230609T160734Z
LAST-MODIFIED:20230609T160734Z
UID:3283-1688065200-1688070600@missiontownship.org
SUMMARY:Hall - HLPOA
DESCRIPTION:
URL:https://missiontownship.org/event/hall-hlpoa-13/
END:VEVENT
END:VCALENDAR