BEGIN:VCALENDAR
VERSION:2.0
PRODID:-//Mission Township - Crow Wing County MN - ECPv6.15.20//NONSGML v1.0//EN
CALSCALE:GREGORIAN
METHOD:PUBLISH
X-ORIGINAL-URL:https://missiontownship.org
X-WR-CALDESC:Events for Mission Township - Crow Wing County MN
REFRESH-INTERVAL;VALUE=DURATION:PT1H
X-Robots-Tag:noindex
X-PUBLISHED-TTL:PT1H
BEGIN:VTIMEZONE
TZID:America/Chicago
BEGIN:DAYLIGHT
TZOFFSETFROM:-0600
TZOFFSETTO:-0500
TZNAME:CDT
DTSTART:20220313T080000
END:DAYLIGHT
BEGIN:STANDARD
TZOFFSETFROM:-0500
TZOFFSETTO:-0600
TZNAME:CST
DTSTART:20221106T070000
END:STANDARD
BEGIN:DAYLIGHT
TZOFFSETFROM:-0600
TZOFFSETTO:-0500
TZNAME:CDT
DTSTART:20230312T080000
END:DAYLIGHT
BEGIN:STANDARD
TZOFFSETFROM:-0500
TZOFFSETTO:-0600
TZNAME:CST
DTSTART:20231105T070000
END:STANDARD
BEGIN:DAYLIGHT
TZOFFSETFROM:-0600
TZOFFSETTO:-0500
TZNAME:CDT
DTSTART:20240310T080000
END:DAYLIGHT
BEGIN:STANDARD
TZOFFSETFROM:-0500
TZOFFSETTO:-0600
TZNAME:CST
DTSTART:20241103T070000
END:STANDARD
END:VTIMEZONE
BEGIN:VEVENT
DTSTART;VALUE=DATE:20230428
DTEND;VALUE=DATE:20230502
DTSTAMP:20260422T211825
CREATED:20230119T025422Z
LAST-MODIFIED:20230412T200308Z
UID:2844-1682640000-1682985599@missiontownship.org
SUMMARY:Hall - Quilt Club
DESCRIPTION:
URL:https://missiontownship.org/event/hall-quilt-club-5/
END:VEVENT
BEGIN:VEVENT
DTSTART;TZID=America/Chicago:20230506T080000
DTEND;TZID=America/Chicago:20230506T100000
DTSTAMP:20260422T211825
CREATED:20230119T030409Z
LAST-MODIFIED:20230119T030409Z
UID:2853-1683360000-1683367200@missiontownship.org
SUMMARY:Hall - HLPOA
DESCRIPTION:8:00am-10:00am Horseshoe Lake Property Owners Association Meeting
URL:https://missiontownship.org/event/hall-hlpoa-11/
END:VEVENT
BEGIN:VEVENT
DTSTART;TZID=America/Chicago:20230508T190000
DTEND;TZID=America/Chicago:20230508T203000
DTSTAMP:20260422T211825
CREATED:20230119T030044Z
LAST-MODIFIED:20230119T030044Z
UID:2847-1683572400-1683577800@missiontownship.org
SUMMARY:7:00-8:30pm Regular Township Mtg
DESCRIPTION:
URL:https://missiontownship.org/event/700-830pm-regular-township-mtg/
END:VEVENT
BEGIN:VEVENT
DTSTART;TZID=America/Chicago:20230509T200000
DTEND;TZID=America/Chicago:20230509T210000
DTSTAMP:20260422T211825
CREATED:20230119T030134Z
LAST-MODIFIED:20230119T030134Z
UID:2849-1683662400-1683666000@missiontownship.org
SUMMARY:8:00pm Fire Mtg
DESCRIPTION:
URL:https://missiontownship.org/event/800pm-fire-mtg/
END:VEVENT
BEGIN:VEVENT
DTSTART;TZID=America/Chicago:20230511T173000
DTEND;TZID=America/Chicago:20230511T183000
DTSTAMP:20260422T211825
CREATED:20230119T030231Z
LAST-MODIFIED:20230119T030231Z
UID:2851-1683826200-1683829800@missiontownship.org
SUMMARY:5:30pm Road Committee Mtg
DESCRIPTION:
URL:https://missiontownship.org/event/530pm-road-committee-mtg/
END:VEVENT
BEGIN:VEVENT
DTSTART;TZID=America/Chicago:20230512T083000
DTEND;TZID=America/Chicago:20230512T100000
DTSTAMP:20260422T211825
CREATED:20230507T193818Z
LAST-MODIFIED:20230507T193818Z
UID:3224-1683880200-1683885600@missiontownship.org
SUMMARY:Park Committee Meeting
DESCRIPTION:Park Committee will meet at 8:30am at the Mission Park Pavilion
URL:https://missiontownship.org/event/park-committee-meeting-2/
END:VEVENT
BEGIN:VEVENT
DTSTART;TZID=America/Chicago:20230527T090000
DTEND;TZID=America/Chicago:20230527T110000
DTSTAMP:20260422T211825
CREATED:20230119T030531Z
LAST-MODIFIED:20230119T030716Z
UID:2855-1685178000-1685185200@missiontownship.org
SUMMARY:Hall - Morningside Estates
DESCRIPTION:9am-11am Morningside Estates Meeting
URL:https://missiontownship.org/event/hall-morningside-estates/
END:VEVENT
END:VCALENDAR