BEGIN:VCALENDAR
VERSION:2.0
PRODID:-//Mission Township - Crow Wing County MN - ECPv6.15.20//NONSGML v1.0//EN
CALSCALE:GREGORIAN
METHOD:PUBLISH
X-ORIGINAL-URL:https://missiontownship.org
X-WR-CALDESC:Events for Mission Township - Crow Wing County MN
REFRESH-INTERVAL;VALUE=DURATION:PT1H
X-Robots-Tag:noindex
X-PUBLISHED-TTL:PT1H
BEGIN:VTIMEZONE
TZID:America/Chicago
BEGIN:DAYLIGHT
TZOFFSETFROM:-0600
TZOFFSETTO:-0500
TZNAME:CDT
DTSTART:20220313T080000
END:DAYLIGHT
BEGIN:STANDARD
TZOFFSETFROM:-0500
TZOFFSETTO:-0600
TZNAME:CST
DTSTART:20221106T070000
END:STANDARD
BEGIN:DAYLIGHT
TZOFFSETFROM:-0600
TZOFFSETTO:-0500
TZNAME:CDT
DTSTART:20230312T080000
END:DAYLIGHT
BEGIN:STANDARD
TZOFFSETFROM:-0500
TZOFFSETTO:-0600
TZNAME:CST
DTSTART:20231105T070000
END:STANDARD
BEGIN:DAYLIGHT
TZOFFSETFROM:-0600
TZOFFSETTO:-0500
TZNAME:CDT
DTSTART:20240310T080000
END:DAYLIGHT
BEGIN:STANDARD
TZOFFSETFROM:-0500
TZOFFSETTO:-0600
TZNAME:CST
DTSTART:20241103T070000
END:STANDARD
END:VTIMEZONE
BEGIN:VEVENT
DTSTART;TZID=America/Chicago:20230408T170000
DTEND;TZID=America/Chicago:20230408T193000
DTSTAMP:20260423T003211
CREATED:20230402T204010Z
LAST-MODIFIED:20230402T204010Z
UID:3118-1680973200-1680982200@missiontownship.org
SUMMARY:Hall - Kramer
DESCRIPTION:
URL:https://missiontownship.org/event/hall-kramer-2/
END:VEVENT
BEGIN:VEVENT
DTSTART;TZID=America/Chicago:20230410T184500
DTEND;TZID=America/Chicago:20230410T190000
DTSTAMP:20260423T003211
CREATED:20230327T174251Z
LAST-MODIFIED:20230327T174251Z
UID:3110-1681152300-1681153200@missiontownship.org
SUMMARY:Notice of Special Meeting
DESCRIPTION:Notice is hereby given that the Planning Commission of Mission Township\, Crow Wing County\, MN will hold an initial organizational meeting on April 10\, 2023 at 6:45pm\, at the Mission Town Hall for the purpose of:          Organizing the Planning Commission
URL:https://missiontownship.org/event/notice-of-special-meeting/
END:VEVENT
BEGIN:VEVENT
DTSTART;TZID=America/Chicago:20230410T190000
DTEND;TZID=America/Chicago:20230410T203000
DTSTAMP:20260423T003211
CREATED:20230116T165755Z
LAST-MODIFIED:20230116T165755Z
UID:2836-1681153200-1681158600@missiontownship.org
SUMMARY:Regular Township Meeting
DESCRIPTION:
URL:https://missiontownship.org/event/regular-township-meeting-18/
END:VEVENT
BEGIN:VEVENT
DTSTART;TZID=America/Chicago:20230411T200000
DTEND;TZID=America/Chicago:20230411T210000
DTSTAMP:20260423T003211
CREATED:20230123T201716Z
LAST-MODIFIED:20230123T201716Z
UID:2875-1681243200-1681246800@missiontownship.org
SUMMARY:Fire Dept. Mtg.
DESCRIPTION:
URL:https://missiontownship.org/event/fire-dept-mtg-2/
END:VEVENT
BEGIN:VEVENT
DTSTART;TZID=America/Chicago:20230412T180000
DTEND;TZID=America/Chicago:20230412T190000
DTSTAMP:20260423T003211
CREATED:20230320T214942Z
LAST-MODIFIED:20230412T180604Z
UID:3086-1681322400-1681326000@missiontownship.org
SUMMARY:Cancelled - Fire Dept. Interviews
DESCRIPTION:Cancelled – Reschedule at a later date\nMission Town Board and Fire Chief Makowski will conduct interview for the open positions on the Fire Dept.
URL:https://missiontownship.org/event/fire-dept-interviews/
END:VEVENT
BEGIN:VEVENT
DTSTART;TZID=America/Chicago:20230413T180000
DTEND;TZID=America/Chicago:20230413T200000
DTSTAMP:20260423T003211
CREATED:20230216T191824Z
LAST-MODIFIED:20230216T191824Z
UID:2996-1681408800-1681416000@missiontownship.org
SUMMARY:Hall - Roads Project Open House
DESCRIPTION:
URL:https://missiontownship.org/event/hall-roads-project-open-house/
END:VEVENT
BEGIN:VEVENT
DTSTART;TZID=America/Chicago:20230419T173000
DTEND;TZID=America/Chicago:20230419T183000
DTSTAMP:20260423T003211
CREATED:20230116T165851Z
LAST-MODIFIED:20230116T165851Z
UID:2838-1681925400-1681929000@missiontownship.org
SUMMARY:Road Committee Meeting
DESCRIPTION:
URL:https://missiontownship.org/event/road-committee-meeting-7/
END:VEVENT
BEGIN:VEVENT
DTSTART;TZID=America/Chicago:20230424T100000
DTEND;TZID=America/Chicago:20230424T110000
DTSTAMP:20260423T003211
CREATED:20230116T165947Z
LAST-MODIFIED:20230116T165947Z
UID:2840-1682330400-1682334000@missiontownship.org
SUMMARY:Local Board of Appeals
DESCRIPTION:
URL:https://missiontownship.org/event/local-board-of-appeals/
END:VEVENT
BEGIN:VEVENT
DTSTART;TZID=America/Chicago:20230427T180000
DTEND;TZID=America/Chicago:20230427T183000
DTSTAMP:20260423T003211
CREATED:20230412T194606Z
LAST-MODIFIED:20230412T194606Z
UID:3175-1682618400-1682620200@missiontownship.org
SUMMARY:Meeting & Public Hearing
DESCRIPTION:Notice is hereby given that the Planning Commission of Mission Township\, Crow Wing County\, MN will hold a meeting on Thursday\, April 27\, 2023 at 6:00pm\, at the Mission Town Hall for the purpose of conducting a public hearing on Ordinance #2023-02 – Mission Township Subdivision Ordinance.  A copy of the Ordinance is available on the township website – missiontownship.org or by contacting the Town Clerk.
URL:https://missiontownship.org/event/meeting-public-hearing/
END:VEVENT
BEGIN:VEVENT
DTSTART;TZID=America/Chicago:20230427T183000
DTEND;TZID=America/Chicago:20230427T190000
DTSTAMP:20260423T003211
CREATED:20230412T194846Z
LAST-MODIFIED:20230424T211522Z
UID:3177-1682620200-1682622000@missiontownship.org
SUMMARY:Special Meeting
DESCRIPTION:Special Town Board Meeting – Mission Tavern Liquor License & Consider adoption of Mission Township Subdivision Ordinance #2023-02
URL:https://missiontownship.org/event/special-meeting-6/
END:VEVENT
BEGIN:VEVENT
DTSTART;VALUE=DATE:20230428
DTEND;VALUE=DATE:20230502
DTSTAMP:20260423T003211
CREATED:20230119T025422Z
LAST-MODIFIED:20230412T200308Z
UID:2844-1682640000-1682985599@missiontownship.org
SUMMARY:Hall - Quilt Club
DESCRIPTION:
URL:https://missiontownship.org/event/hall-quilt-club-5/
END:VEVENT
BEGIN:VEVENT
DTSTART;TZID=America/Chicago:20230429T080000
DTEND;TZID=America/Chicago:20230429T170000
DTSTAMP:20260423T003211
CREATED:20230429T143152Z
LAST-MODIFIED:20230429T143152Z
UID:3198-1682755200-1682787600@missiontownship.org
SUMMARY:Park - Parade
DESCRIPTION:Kick-off the Summer at Mission Township Parade with Root Beer Floats to follow.
URL:https://missiontownship.org/event/park-parade/
END:VEVENT
END:VCALENDAR