BEGIN:VCALENDAR
VERSION:2.0
PRODID:-//Mission Township - Crow Wing County MN - ECPv6.15.20//NONSGML v1.0//EN
CALSCALE:GREGORIAN
METHOD:PUBLISH
X-ORIGINAL-URL:https://missiontownship.org
X-WR-CALDESC:Events for Mission Township - Crow Wing County MN
REFRESH-INTERVAL;VALUE=DURATION:PT1H
X-Robots-Tag:noindex
X-PUBLISHED-TTL:PT1H
BEGIN:VTIMEZONE
TZID:America/Chicago
BEGIN:DAYLIGHT
TZOFFSETFROM:-0600
TZOFFSETTO:-0500
TZNAME:CDT
DTSTART:20220313T080000
END:DAYLIGHT
BEGIN:STANDARD
TZOFFSETFROM:-0500
TZOFFSETTO:-0600
TZNAME:CST
DTSTART:20221106T070000
END:STANDARD
BEGIN:DAYLIGHT
TZOFFSETFROM:-0600
TZOFFSETTO:-0500
TZNAME:CDT
DTSTART:20230312T080000
END:DAYLIGHT
BEGIN:STANDARD
TZOFFSETFROM:-0500
TZOFFSETTO:-0600
TZNAME:CST
DTSTART:20231105T070000
END:STANDARD
BEGIN:DAYLIGHT
TZOFFSETFROM:-0600
TZOFFSETTO:-0500
TZNAME:CDT
DTSTART:20240310T080000
END:DAYLIGHT
BEGIN:STANDARD
TZOFFSETFROM:-0500
TZOFFSETTO:-0600
TZNAME:CST
DTSTART:20241103T070000
END:STANDARD
END:VTIMEZONE
BEGIN:VEVENT
DTSTART;TZID=America/Chicago:20230307T180000
DTEND;TZID=America/Chicago:20230307T190000
DTSTAMP:20260425T053005
CREATED:20230307T174954Z
LAST-MODIFIED:20230307T174954Z
UID:3006-1678212000-1678215600@missiontownship.org
SUMMARY:Special Meeting
DESCRIPTION:There is the possibility this could be a Closed meeting
URL:https://missiontownship.org/event/special-meeting-5/
END:VEVENT
BEGIN:VEVENT
DTSTART;TZID=America/Chicago:20230307T190000
DTEND;TZID=America/Chicago:20230307T193000
DTSTAMP:20260425T053005
CREATED:20230307T175059Z
LAST-MODIFIED:20230307T175059Z
UID:3008-1678215600-1678217400@missiontownship.org
SUMMARY:Internal Audit
DESCRIPTION:Board will meeting for the Annual Internal Audit
URL:https://missiontownship.org/event/internal-audit-2/
END:VEVENT
BEGIN:VEVENT
DTSTART;TZID=America/Chicago:20230313T190000
DTEND;TZID=America/Chicago:20230313T203000
DTSTAMP:20260425T053005
CREATED:20230116T165249Z
LAST-MODIFIED:20230116T165249Z
UID:2832-1678734000-1678739400@missiontownship.org
SUMMARY:Regular Township Meeting
DESCRIPTION:
URL:https://missiontownship.org/event/regular-township-meeting-17/
END:VEVENT
BEGIN:VEVENT
DTSTART;TZID=America/Chicago:20230314T190000
DTEND;TZID=America/Chicago:20230314T203000
DTSTAMP:20260425T053005
CREATED:20230116T165400Z
LAST-MODIFIED:20230116T165400Z
UID:2834-1678820400-1678825800@missiontownship.org
SUMMARY:Annual Township Meeting
DESCRIPTION:
URL:https://missiontownship.org/event/annual-township-meeting-3/
END:VEVENT
BEGIN:VEVENT
DTSTART;TZID=America/Chicago:20230314T200000
DTEND;TZID=America/Chicago:20230314T210000
DTSTAMP:20260425T053005
CREATED:20230123T201542Z
LAST-MODIFIED:20230123T201542Z
UID:2873-1678824000-1678827600@missiontownship.org
SUMMARY:Fire Dept. Mtg.
DESCRIPTION:
URL:https://missiontownship.org/event/fire-dept-mtg/
END:VEVENT
BEGIN:VEVENT
DTSTART;TZID=America/Chicago:20230315T173000
DTEND;TZID=America/Chicago:20230315T183000
DTSTAMP:20260425T053005
CREATED:20230307T174623Z
LAST-MODIFIED:20230307T174623Z
UID:3004-1678901400-1678905000@missiontownship.org
SUMMARY:Special Meeting Notice
DESCRIPTION:As requested by a quorum of supervisors\, the Mission Town Board will hold a Special Meeting on Wednesday\, March 15\, beginning at 5:30pm\, at the Mission  Town Hall for the purpose of reviewing a proposed Planning & Zoning Ordinance with our Township Attorney.  The meeting will be available via Zoom.
URL:https://missiontownship.org/event/special-meeting-notice/
END:VEVENT
END:VCALENDAR