BEGIN:VCALENDAR
VERSION:2.0
PRODID:-//Mission Township - Crow Wing County MN - ECPv6.15.20//NONSGML v1.0//EN
CALSCALE:GREGORIAN
METHOD:PUBLISH
X-WR-CALNAME:Mission Township - Crow Wing County MN
X-ORIGINAL-URL:https://missiontownship.org
X-WR-CALDESC:Events for Mission Township - Crow Wing County MN
REFRESH-INTERVAL;VALUE=DURATION:PT1H
X-Robots-Tag:noindex
X-PUBLISHED-TTL:PT1H
BEGIN:VTIMEZONE
TZID:America/Chicago
BEGIN:DAYLIGHT
TZOFFSETFROM:-0600
TZOFFSETTO:-0500
TZNAME:CDT
DTSTART:20220313T080000
END:DAYLIGHT
BEGIN:STANDARD
TZOFFSETFROM:-0500
TZOFFSETTO:-0600
TZNAME:CST
DTSTART:20221106T070000
END:STANDARD
BEGIN:DAYLIGHT
TZOFFSETFROM:-0600
TZOFFSETTO:-0500
TZNAME:CDT
DTSTART:20230312T080000
END:DAYLIGHT
BEGIN:STANDARD
TZOFFSETFROM:-0500
TZOFFSETTO:-0600
TZNAME:CST
DTSTART:20231105T070000
END:STANDARD
BEGIN:DAYLIGHT
TZOFFSETFROM:-0600
TZOFFSETTO:-0500
TZNAME:CDT
DTSTART:20240310T080000
END:DAYLIGHT
BEGIN:STANDARD
TZOFFSETFROM:-0500
TZOFFSETTO:-0600
TZNAME:CST
DTSTART:20241103T070000
END:STANDARD
END:VTIMEZONE
BEGIN:VEVENT
DTSTART;TZID=America/Chicago:20230207T173000
DTEND;TZID=America/Chicago:20230207T183000
DTSTAMP:20260425T051854
CREATED:20230123T195644Z
LAST-MODIFIED:20230123T195644Z
UID:2869-1675791000-1675794600@missiontownship.org
SUMMARY:Road Committee Mtg
DESCRIPTION:
URL:https://missiontownship.org/event/road-committee-mtg-9/
END:VEVENT
BEGIN:VEVENT
DTSTART;TZID=America/Chicago:20230208T180000
DTEND;TZID=America/Chicago:20230208T193000
DTSTAMP:20260425T051854
CREATED:20230105T170926Z
LAST-MODIFIED:20230105T170926Z
UID:2813-1675879200-1675884600@missiontownship.org
SUMMARY:2024 Budget Meeting
DESCRIPTION:Mission Town Board will meet to prepare the 2024 Budget
URL:https://missiontownship.org/event/2024-budget-meeting/
END:VEVENT
BEGIN:VEVENT
DTSTART;TZID=America/Chicago:20230213T190000
DTEND;TZID=America/Chicago:20230213T203000
DTSTAMP:20260425T051854
CREATED:20230105T171118Z
LAST-MODIFIED:20230105T171118Z
UID:2815-1676314800-1676320200@missiontownship.org
SUMMARY:Regular Township Meeting
DESCRIPTION:Mission Town Board will meet to conduct Regular Township Business.  Zoom Link will be provided on the township website.
URL:https://missiontownship.org/event/regular-township-meeting-16/
END:VEVENT
BEGIN:VEVENT
DTSTART;TZID=America/Chicago:20230214T200000
DTEND;TZID=America/Chicago:20230214T210000
DTSTAMP:20260425T051854
CREATED:20230105T171159Z
LAST-MODIFIED:20230105T171159Z
UID:2817-1676404800-1676408400@missiontownship.org
SUMMARY:Fire Dept Meeting
DESCRIPTION:
URL:https://missiontownship.org/event/fire-dept-meeting-3/
END:VEVENT
BEGIN:VEVENT
DTSTART;TZID=America/Chicago:20230216T120000
DTEND;TZID=America/Chicago:20230216T130000
DTSTAMP:20260425T051854
CREATED:20230210T171623Z
LAST-MODIFIED:20230210T171623Z
UID:2943-1676548800-1676552400@missiontownship.org
SUMMARY:Planning & Zoning Meeting
DESCRIPTION:Mission Town Board will meet via Zoom/Teams with Crow Wing County to discuss Planning & Zoning
URL:https://missiontownship.org/event/planning-zoning-meeting/
END:VEVENT
BEGIN:VEVENT
DTSTART;TZID=America/Chicago:20230221T080000
DTEND;TZID=America/Chicago:20230221T170000
DTSTAMP:20260425T051854
CREATED:20230221T180530Z
LAST-MODIFIED:20230221T180530Z
UID:2998-1676966400-1676998800@missiontownship.org
SUMMARY:Hall - 6pm Performance Review
DESCRIPTION:2023 Fire Chief Performance Review
URL:https://missiontownship.org/event/hall-6pm-performance-review/
END:VEVENT
BEGIN:VEVENT
DTSTART;TZID=America/Chicago:20230227T180000
DTEND;TZID=America/Chicago:20230227T193000
DTSTAMP:20260425T051854
CREATED:20230105T171435Z
LAST-MODIFIED:20230105T171449Z
UID:2819-1677520800-1677526200@missiontownship.org
SUMMARY:2024 Levy Meeting & Internal Audit
DESCRIPTION:Mission Town Board will meet to finalize the 2024 Levy and will also do an Internal Audit of the financials.
URL:https://missiontownship.org/event/2024-levy-meeting-internal-audit/
END:VEVENT
END:VCALENDAR