BEGIN:VCALENDAR
VERSION:2.0
PRODID:-//Mission Township - Crow Wing County MN - ECPv6.15.20//NONSGML v1.0//EN
CALSCALE:GREGORIAN
METHOD:PUBLISH
X-WR-CALNAME:Mission Township - Crow Wing County MN
X-ORIGINAL-URL:https://missiontownship.org
X-WR-CALDESC:Events for Mission Township - Crow Wing County MN
REFRESH-INTERVAL;VALUE=DURATION:PT1H
X-Robots-Tag:noindex
X-PUBLISHED-TTL:PT1H
BEGIN:VTIMEZONE
TZID:America/Chicago
BEGIN:DAYLIGHT
TZOFFSETFROM:-0600
TZOFFSETTO:-0500
TZNAME:CDT
DTSTART:20210314T080000
END:DAYLIGHT
BEGIN:STANDARD
TZOFFSETFROM:-0500
TZOFFSETTO:-0600
TZNAME:CST
DTSTART:20211107T070000
END:STANDARD
BEGIN:DAYLIGHT
TZOFFSETFROM:-0600
TZOFFSETTO:-0500
TZNAME:CDT
DTSTART:20220313T080000
END:DAYLIGHT
BEGIN:STANDARD
TZOFFSETFROM:-0500
TZOFFSETTO:-0600
TZNAME:CST
DTSTART:20221106T070000
END:STANDARD
BEGIN:DAYLIGHT
TZOFFSETFROM:-0600
TZOFFSETTO:-0500
TZNAME:CDT
DTSTART:20230312T080000
END:DAYLIGHT
BEGIN:STANDARD
TZOFFSETFROM:-0500
TZOFFSETTO:-0600
TZNAME:CST
DTSTART:20231105T070000
END:STANDARD
END:VTIMEZONE
BEGIN:VEVENT
DTSTART;TZID=America/Chicago:20220903T083000
DTEND;TZID=America/Chicago:20220903T100000
DTSTAMP:20260425T173115
CREATED:20210824T211341Z
LAST-MODIFIED:20210824T211341Z
UID:1708-1662193800-1662199200@missiontownship.org
SUMMARY:Hall - Reserved
DESCRIPTION:HLPOA – Board Meeting
URL:https://missiontownship.org/event/hall-reserved-19/
END:VEVENT
BEGIN:VEVENT
DTSTART;TZID=America/Chicago:20220903T083000
DTEND;TZID=America/Chicago:20220903T100000
DTSTAMP:20260425T173115
CREATED:20220105T191621Z
LAST-MODIFIED:20220105T191621Z
UID:2064-1662193800-1662199200@missiontownship.org
SUMMARY:Hall - HLPOA
DESCRIPTION:Horseshoe Lake Property Owners Association Meeting
URL:https://missiontownship.org/event/hall-hlpoa-10/
END:VEVENT
BEGIN:VEVENT
DTSTART;TZID=America/Chicago:20220903T110000
DTEND;TZID=America/Chicago:20220903T140000
DTSTAMP:20260425T173115
CREATED:20210824T211648Z
LAST-MODIFIED:20210824T211648Z
UID:1712-1662202800-1662213600@missiontownship.org
SUMMARY:Park - Reserved
DESCRIPTION:HLPOA – Potluck/Fishing Contest
URL:https://missiontownship.org/event/park-reserved-17/
END:VEVENT
BEGIN:VEVENT
DTSTART;TZID=America/Chicago:20220903T110000
DTEND;TZID=America/Chicago:20220903T140000
DTSTAMP:20260425T173115
CREATED:20220105T191507Z
LAST-MODIFIED:20220105T191507Z
UID:2062-1662202800-1662213600@missiontownship.org
SUMMARY:Park - HLPOA
DESCRIPTION:Horseshoe Lake Property Owners Association Annual Picnic
URL:https://missiontownship.org/event/park-hlpoa-3/
END:VEVENT
BEGIN:VEVENT
DTSTART;TZID=America/Chicago:20220908T173000
DTEND;TZID=America/Chicago:20220908T190000
DTSTAMP:20260425T173115
CREATED:20220105T191706Z
LAST-MODIFIED:20220105T191706Z
UID:2066-1662658200-1662663600@missiontownship.org
SUMMARY:Hall - Road Comm Meeting
DESCRIPTION:
URL:https://missiontownship.org/event/hall-road-comm-meeting-6/
END:VEVENT
BEGIN:VEVENT
DTSTART;TZID=America/Chicago:20220912T190000
DTEND;TZID=America/Chicago:20220912T210000
DTSTAMP:20260425T173115
CREATED:20220105T191815Z
LAST-MODIFIED:20220105T191815Z
UID:2068-1663009200-1663016400@missiontownship.org
SUMMARY:Hall - Reg Town Meeting
DESCRIPTION:
URL:https://missiontownship.org/event/hall-reg-town-meeting-6/
END:VEVENT
BEGIN:VEVENT
DTSTART;TZID=America/Chicago:20220913T190000
DTEND;TZID=America/Chicago:20220913T210000
DTSTAMP:20260425T173115
CREATED:20220105T191904Z
LAST-MODIFIED:20220105T191904Z
UID:2070-1663095600-1663102800@missiontownship.org
SUMMARY:Hall - Fire Meeting
DESCRIPTION:
URL:https://missiontownship.org/event/hall-fire-meeting-7/
END:VEVENT
BEGIN:VEVENT
DTSTART;VALUE=DATE:20220915
DTEND;VALUE=DATE:20220919
DTSTAMP:20260425T173115
CREATED:20220105T191950Z
LAST-MODIFIED:20220105T191950Z
UID:2072-1663200000-1663545599@missiontownship.org
SUMMARY:Hall - Quilt Club
DESCRIPTION:
URL:https://missiontownship.org/event/hall-quilt-club-4/
END:VEVENT
END:VCALENDAR