BEGIN:VCALENDAR
VERSION:2.0
PRODID:-//Mission Township - Crow Wing County MN - ECPv6.15.20//NONSGML v1.0//EN
CALSCALE:GREGORIAN
METHOD:PUBLISH
X-WR-CALNAME:Mission Township - Crow Wing County MN
X-ORIGINAL-URL:https://missiontownship.org
X-WR-CALDESC:Events for Mission Township - Crow Wing County MN
REFRESH-INTERVAL;VALUE=DURATION:PT1H
X-Robots-Tag:noindex
X-PUBLISHED-TTL:PT1H
BEGIN:VTIMEZONE
TZID:America/Chicago
BEGIN:DAYLIGHT
TZOFFSETFROM:-0600
TZOFFSETTO:-0500
TZNAME:CDT
DTSTART:20210314T080000
END:DAYLIGHT
BEGIN:STANDARD
TZOFFSETFROM:-0500
TZOFFSETTO:-0600
TZNAME:CST
DTSTART:20211107T070000
END:STANDARD
BEGIN:DAYLIGHT
TZOFFSETFROM:-0600
TZOFFSETTO:-0500
TZNAME:CDT
DTSTART:20220313T080000
END:DAYLIGHT
BEGIN:STANDARD
TZOFFSETFROM:-0500
TZOFFSETTO:-0600
TZNAME:CST
DTSTART:20221106T070000
END:STANDARD
BEGIN:DAYLIGHT
TZOFFSETFROM:-0600
TZOFFSETTO:-0500
TZNAME:CDT
DTSTART:20230312T080000
END:DAYLIGHT
BEGIN:STANDARD
TZOFFSETFROM:-0500
TZOFFSETTO:-0600
TZNAME:CST
DTSTART:20231105T070000
END:STANDARD
END:VTIMEZONE
BEGIN:VEVENT
DTSTART;TZID=America/Chicago:20220711T190000
DTEND;TZID=America/Chicago:20220711T210000
DTSTAMP:20260425T203636
CREATED:20220105T190130Z
LAST-MODIFIED:20220105T190130Z
UID:2046-1657566000-1657573200@missiontownship.org
SUMMARY:Hall - Reg Town Meeting
DESCRIPTION:
URL:https://missiontownship.org/event/hall-reg-town-meeting-4/
END:VEVENT
BEGIN:VEVENT
DTSTART;TZID=America/Chicago:20220712T190000
DTEND;TZID=America/Chicago:20220712T210000
DTSTAMP:20260425T203636
CREATED:20220105T190218Z
LAST-MODIFIED:20220105T190218Z
UID:2048-1657652400-1657659600@missiontownship.org
SUMMARY:Hall - Fire Meeting
DESCRIPTION:
URL:https://missiontownship.org/event/hall-fire-meeting-5/
END:VEVENT
BEGIN:VEVENT
DTSTART;TZID=America/Chicago:20220714T173000
DTEND;TZID=America/Chicago:20220714T190000
DTSTAMP:20260425T203636
CREATED:20220105T190301Z
LAST-MODIFIED:20220105T190301Z
UID:2050-1657819800-1657825200@missiontownship.org
SUMMARY:Hall - Road Comm Meeting
DESCRIPTION:
URL:https://missiontownship.org/event/hall-road-comm-meeting-4/
END:VEVENT
BEGIN:VEVENT
DTSTART;TZID=America/Chicago:20220724T120000
DTEND;TZID=America/Chicago:20220724T160000
DTSTAMP:20260425T203636
CREATED:20220722T191829Z
LAST-MODIFIED:20220722T191829Z
UID:2532-1658664000-1658678400@missiontownship.org
SUMMARY:Park - Reserved
DESCRIPTION:Deerwood Baptist Church – Potluck
URL:https://missiontownship.org/event/park-reserved-19/
END:VEVENT
BEGIN:VEVENT
DTSTART;TZID=America/Chicago:20220731T110000
DTEND;TZID=America/Chicago:20220731T143000
DTSTAMP:20260425T203636
CREATED:20220722T192040Z
LAST-MODIFIED:20220722T192040Z
UID:2535-1659265200-1659277800@missiontownship.org
SUMMARY:Park - Reserved
DESCRIPTION:Jeff Hansen
URL:https://missiontownship.org/event/park-reserved-20/
END:VEVENT
END:VCALENDAR