BEGIN:VCALENDAR
VERSION:2.0
PRODID:-//Mission Township - Crow Wing County MN - ECPv6.15.20//NONSGML v1.0//EN
CALSCALE:GREGORIAN
METHOD:PUBLISH
X-ORIGINAL-URL:https://missiontownship.org
X-WR-CALDESC:Events for Mission Township - Crow Wing County MN
REFRESH-INTERVAL;VALUE=DURATION:PT1H
X-Robots-Tag:noindex
X-PUBLISHED-TTL:PT1H
BEGIN:VTIMEZONE
TZID:America/Chicago
BEGIN:DAYLIGHT
TZOFFSETFROM:-0600
TZOFFSETTO:-0500
TZNAME:CDT
DTSTART:20250309T080000
END:DAYLIGHT
BEGIN:STANDARD
TZOFFSETFROM:-0500
TZOFFSETTO:-0600
TZNAME:CST
DTSTART:20251102T070000
END:STANDARD
BEGIN:DAYLIGHT
TZOFFSETFROM:-0600
TZOFFSETTO:-0500
TZNAME:CDT
DTSTART:20260308T080000
END:DAYLIGHT
BEGIN:STANDARD
TZOFFSETFROM:-0500
TZOFFSETTO:-0600
TZNAME:CST
DTSTART:20261101T070000
END:STANDARD
BEGIN:DAYLIGHT
TZOFFSETFROM:-0600
TZOFFSETTO:-0500
TZNAME:CDT
DTSTART:20270314T080000
END:DAYLIGHT
BEGIN:STANDARD
TZOFFSETFROM:-0500
TZOFFSETTO:-0600
TZNAME:CST
DTSTART:20271107T070000
END:STANDARD
END:VTIMEZONE
BEGIN:VEVENT
DTSTART;TZID=America/Chicago:20260606T080000
DTEND;TZID=America/Chicago:20260606T100000
DTSTAMP:20260422T064638
CREATED:20251020T174442Z
LAST-MODIFIED:20260223T210152Z
UID:5848-1780732800-1780740000@missiontownship.org
SUMMARY:Private Event at Mission Town Hall
DESCRIPTION:
URL:https://missiontownship.org/event/private-event-at-the-town-hall-2/
LOCATION:Mission Town Hall
CATEGORIES:Meetings,Private
END:VEVENT
BEGIN:VEVENT
DTSTART;TZID=America/Chicago:20260613T120000
DTEND;TZID=America/Chicago:20260613T180000
DTSTAMP:20260422T064638
CREATED:20260414T180805Z
LAST-MODIFIED:20260414T180805Z
UID:6675-1781352000-1781373600@missiontownship.org
SUMMARY:Private Event at the Park Pavilion
DESCRIPTION:
URL:https://missiontownship.org/event/private-event-at-the-park-pavilion-9/
LOCATION:Mission Park Pavillion
CATEGORIES:Events,Private
ORGANIZER;CN="Debra Liepke":MAILTO:dliepke123@aol.com
END:VEVENT
BEGIN:VEVENT
DTSTART;TZID=America/Chicago:20260627T100000
DTEND;TZID=America/Chicago:20260627T180000
DTSTAMP:20260422T064638
CREATED:20260223T174445Z
LAST-MODIFIED:20260223T174547Z
UID:6412-1782554400-1782583200@missiontownship.org
SUMMARY:Private Event at Mission Park Pavilion
DESCRIPTION:
URL:https://missiontownship.org/event/private-event-at-mission-park-pavilion/
LOCATION:Mission Park Pavillion
CATEGORIES:Events,Private
END:VEVENT
END:VCALENDAR