BEGIN:VCALENDAR
VERSION:2.0
PRODID:-//Mission Township - Crow Wing County MN - ECPv6.15.20//NONSGML v1.0//EN
CALSCALE:GREGORIAN
METHOD:PUBLISH
X-WR-CALNAME:Mission Township - Crow Wing County MN
X-ORIGINAL-URL:https://missiontownship.org
X-WR-CALDESC:Events for Mission Township - Crow Wing County MN
REFRESH-INTERVAL;VALUE=DURATION:PT1H
X-Robots-Tag:noindex
X-PUBLISHED-TTL:PT1H
BEGIN:VTIMEZONE
TZID:America/Chicago
BEGIN:DAYLIGHT
TZOFFSETFROM:-0600
TZOFFSETTO:-0500
TZNAME:CDT
DTSTART:20240310T080000
END:DAYLIGHT
BEGIN:STANDARD
TZOFFSETFROM:-0500
TZOFFSETTO:-0600
TZNAME:CST
DTSTART:20241103T070000
END:STANDARD
BEGIN:DAYLIGHT
TZOFFSETFROM:-0600
TZOFFSETTO:-0500
TZNAME:CDT
DTSTART:20250309T080000
END:DAYLIGHT
BEGIN:STANDARD
TZOFFSETFROM:-0500
TZOFFSETTO:-0600
TZNAME:CST
DTSTART:20251102T070000
END:STANDARD
BEGIN:DAYLIGHT
TZOFFSETFROM:-0600
TZOFFSETTO:-0500
TZNAME:CDT
DTSTART:20260308T080000
END:DAYLIGHT
BEGIN:STANDARD
TZOFFSETFROM:-0500
TZOFFSETTO:-0600
TZNAME:CST
DTSTART:20261101T070000
END:STANDARD
END:VTIMEZONE
BEGIN:VEVENT
DTSTART;TZID=America/Chicago:20250710T190000
DTEND;TZID=America/Chicago:20250710T210000
DTSTAMP:20260425T102546
CREATED:20250422T135940Z
LAST-MODIFIED:20250424T152138Z
UID:5030-1752174000-1752181200@missiontownship.org
SUMMARY:Private Event at Town Hall
DESCRIPTION:
URL:https://missiontownship.org/event/horseshoe-lake-poa-2/
LOCATION:Mission Town Hall
CATEGORIES:Private
END:VEVENT
BEGIN:VEVENT
DTSTART;TZID=America/Chicago:20250712T100000
DTEND;TZID=America/Chicago:20250712T210000
DTSTAMP:20260425T102546
CREATED:20250408T131212Z
LAST-MODIFIED:20250424T152143Z
UID:4924-1752314400-1752354000@missiontownship.org
SUMMARY:Private Event at Park Pavillion
DESCRIPTION:
URL:https://missiontownship.org/event/private-party/
LOCATION:Mission Park Pavillion
CATEGORIES:Private
END:VEVENT
BEGIN:VEVENT
DTSTART;TZID=America/Chicago:20250716T090000
DTEND;TZID=America/Chicago:20250716T130000
DTSTAMP:20260425T102546
CREATED:20250627T200359Z
LAST-MODIFIED:20250627T203530Z
UID:5372-1752656400-1752670800@missiontownship.org
SUMMARY:Private Event at the Park Pavilion
DESCRIPTION:
URL:https://missiontownship.org/event/private-event-at-the-park-pavilion-3/
LOCATION:Mission Park Pavillion
CATEGORIES:Events,Private
END:VEVENT
BEGIN:VEVENT
DTSTART;TZID=America/Chicago:20250731T173000
DTEND;TZID=America/Chicago:20250731T193000
DTSTAMP:20260425T102546
CREATED:20250422T140103Z
LAST-MODIFIED:20250728T173652Z
UID:5032-1753983000-1753990200@missiontownship.org
SUMMARY:Private Event at Town Hall
DESCRIPTION:
URL:https://missiontownship.org/event/horseshoe-lake-poa-3/
LOCATION:Mission Town Hall
CATEGORIES:Private
END:VEVENT
END:VCALENDAR