BEGIN:VCALENDAR
VERSION:2.0
PRODID:-//Mission Township - Crow Wing County MN - ECPv6.15.20//NONSGML v1.0//EN
CALSCALE:GREGORIAN
METHOD:PUBLISH
X-WR-CALNAME:Mission Township - Crow Wing County MN
X-ORIGINAL-URL:https://missiontownship.org
X-WR-CALDESC:Events for Mission Township - Crow Wing County MN
REFRESH-INTERVAL;VALUE=DURATION:PT1H
X-Robots-Tag:noindex
X-PUBLISHED-TTL:PT1H
BEGIN:VTIMEZONE
TZID:America/Chicago
BEGIN:DAYLIGHT
TZOFFSETFROM:-0600
TZOFFSETTO:-0500
TZNAME:CDT
DTSTART:20240310T080000
END:DAYLIGHT
BEGIN:STANDARD
TZOFFSETFROM:-0500
TZOFFSETTO:-0600
TZNAME:CST
DTSTART:20241103T070000
END:STANDARD
BEGIN:DAYLIGHT
TZOFFSETFROM:-0600
TZOFFSETTO:-0500
TZNAME:CDT
DTSTART:20250309T080000
END:DAYLIGHT
BEGIN:STANDARD
TZOFFSETFROM:-0500
TZOFFSETTO:-0600
TZNAME:CST
DTSTART:20251102T070000
END:STANDARD
BEGIN:DAYLIGHT
TZOFFSETFROM:-0600
TZOFFSETTO:-0500
TZNAME:CDT
DTSTART:20260308T080000
END:DAYLIGHT
BEGIN:STANDARD
TZOFFSETFROM:-0500
TZOFFSETTO:-0600
TZNAME:CST
DTSTART:20261101T070000
END:STANDARD
END:VTIMEZONE
BEGIN:VEVENT
DTSTART;TZID=America/Chicago:20250503T083000
DTEND;TZID=America/Chicago:20250503T120000
DTSTAMP:20260425T184114
CREATED:20250110T173117Z
LAST-MODIFIED:20250424T152001Z
UID:4503-1746261000-1746273600@missiontownship.org
SUMMARY:Private Event at Town Hall
DESCRIPTION:
URL:https://missiontownship.org/event/horseshoe-poa/
LOCATION:Mission Town Hall
CATEGORIES:Private
END:VEVENT
BEGIN:VEVENT
DTSTART;TZID=America/Chicago:20250516T160000
DTEND;TZID=America/Chicago:20250516T210000
DTSTAMP:20260425T184114
CREATED:20250513T154900Z
LAST-MODIFIED:20250513T154900Z
UID:5201-1747411200-1747429200@missiontownship.org
SUMMARY:Private Event at the Park Pavilion
DESCRIPTION:
URL:https://missiontownship.org/event/private-event-at-the-park-pavilion-2/
LOCATION:Mission Park Pavillion
CATEGORIES:Private
ORGANIZER;CN="Ross Ruehlingross":MAILTO:ruehlingross@gmail.com
END:VEVENT
BEGIN:VEVENT
DTSTART;TZID=America/Chicago:20250517T100000
DTEND;TZID=America/Chicago:20250517T160000
DTSTAMP:20260425T184114
CREATED:20250217T163557Z
LAST-MODIFIED:20250424T152028Z
UID:4684-1747476000-1747497600@missiontownship.org
SUMMARY:Private Event at Park Pavilion
DESCRIPTION:
URL:https://missiontownship.org/event/private-event-at-the-park/
LOCATION:Mission Park Pavillion
CATEGORIES:Private
ORGANIZER;CN="John Mateyka Family":MAILTO:j_mateyka@yahoo.com
END:VEVENT
BEGIN:VEVENT
DTSTART;TZID=America/Chicago:20250524T090000
DTEND;TZID=America/Chicago:20250524T103000
DTSTAMP:20260425T184114
CREATED:20250508T190042Z
LAST-MODIFIED:20250508T190042Z
UID:5174-1748077200-1748082600@missiontownship.org
SUMMARY:Private Town Hall Event
DESCRIPTION:
URL:https://missiontownship.org/event/private-town-hall-event/
LOCATION:Mission Town Hall
CATEGORIES:Private
ORGANIZER;CN="Morningside Estates":MAILTO:nbj123@comcast.net
END:VEVENT
END:VCALENDAR